BEGIN:VCALENDAR
VERSION:2.0
PRODID:test.reiseregion-flaeming.de
BEGIN:VEVENT
UID:69e7b729499d3
DTSTART:20260613T080000Z
SEQUENCE:0
TRANSP:OPAQUE
DTEND:20260613T160000Z
URL:http://test.reiseregion-flaeming.de/veranstaltung/uckermark/offene-gaer
 ten-uckermark-exotik-kunst-garten-jens-nagel-retzow
LOCATION:Exotik-Kunst-Garten Jens Nagel\, OT Retzow\, Retzower Straße 15\,
  17279 Lychen
X-APPLE-STRUCTURED-LOCATION;VALUE=URI;X-ADDRESS="Exotik-Kunst-Garten Jens N
 agel, OT Retzow, Retzower Straße 15, 17279 Lychen";X-APPLE-RADIUS=49;X-TI
 TLE=Exotik-Kunst-Garten Jens Nagel:geo:13.271527,53.226219
GEO:13.271527;53.226219
SUMMARY:Offene Gärten Uckermark: Exotik-Kunst-Garten Jens Nagel Retzow
CLASS:PUBLIC
DESCRIPTION:Ein Garten der besonderen Art mit einer umfangreichen Gehölzsa
 mmlung\, seltenen Pflanzen und exotischen Tieren auf 8.000 m² Fläche. In
 dividuelle Gartengestaltung\, komplettiert durch Installationen und Skulpt
 uren geben dem Besucher beim Rundgang durch den Garten ein Gesamtbild des 
 Künstlers. Das neue Highlight ist ein asiatisch gestalteter Bambushain. E
 in kleines Gartencafé lädt bei Kaffee und Kuchen zum Verweilen ein. Dazu
  Malerei und Plastik von Jens Nagel sowie Fotografie von Clemens Nagel in 
 der integrierten Galerie Nagel. Zu sehen sind dort seine eigenen vom Leben
  inspirierten Werke in verschiedensten Techniken\, Materialien und Motiven
 . WLAN verfügbar.  \nAngeboten werden weiterhin Keramik- und Töpferwaren
 \, Garten-Bücher und -Dekoration\, Postkarten\, ein kleiner Pflanzenverka
 uf und einiges mehr.\n\nKontakt:\n\nExotik-Kunst-Garten\nJens Nagel\nOT Re
 tzow\, Retzower Straße 15\n17279 Lychen\nTelefon: +49 39888 3642\nEmail: 
 \nWebseite: https://www.Exotik-Kunst-Garten.de\n\nWeitere Informationen zu
 r Veranstaltung: http://test.reiseregion-flaeming.de/veranstaltung/uckerma
 rk/offene-gaerten-uckermark-exotik-kunst-garten-jens-nagel-retzow
CATEGORIES:Führung / Besichtigung,Schlösser\, Parks und Gärten
DTSTAMP:20260421T174305Z
END:VEVENT
BEGIN:VEVENT
UID:69e7b7294b69d
DTSTART:20260614T080000Z
SEQUENCE:0
TRANSP:OPAQUE
DTEND:20260614T160000Z
URL:http://test.reiseregion-flaeming.de/veranstaltung/uckermark/offene-gaer
 ten-uckermark-exotik-kunst-garten-jens-nagel-retzow
LOCATION:Exotik-Kunst-Garten Jens Nagel\, OT Retzow\, Retzower Straße 15\,
  17279 Lychen
X-APPLE-STRUCTURED-LOCATION;VALUE=URI;X-ADDRESS="Exotik-Kunst-Garten Jens N
 agel, OT Retzow, Retzower Straße 15, 17279 Lychen";X-APPLE-RADIUS=49;X-TI
 TLE=Exotik-Kunst-Garten Jens Nagel:geo:13.271527,53.226219
GEO:13.271527;53.226219
SUMMARY:Offene Gärten Uckermark: Exotik-Kunst-Garten Jens Nagel Retzow
CLASS:PUBLIC
DESCRIPTION:Ein Garten der besonderen Art mit einer umfangreichen Gehölzsa
 mmlung\, seltenen Pflanzen und exotischen Tieren auf 8.000 m² Fläche. In
 dividuelle Gartengestaltung\, komplettiert durch Installationen und Skulpt
 uren geben dem Besucher beim Rundgang durch den Garten ein Gesamtbild des 
 Künstlers. Das neue Highlight ist ein asiatisch gestalteter Bambushain. E
 in kleines Gartencafé lädt bei Kaffee und Kuchen zum Verweilen ein. Dazu
  Malerei und Plastik von Jens Nagel sowie Fotografie von Clemens Nagel in 
 der integrierten Galerie Nagel. Zu sehen sind dort seine eigenen vom Leben
  inspirierten Werke in verschiedensten Techniken\, Materialien und Motiven
 . WLAN verfügbar.  \nAngeboten werden weiterhin Keramik- und Töpferwaren
 \, Garten-Bücher und -Dekoration\, Postkarten\, ein kleiner Pflanzenverka
 uf und einiges mehr.\n\nKontakt:\n\nExotik-Kunst-Garten\nJens Nagel\nOT Re
 tzow\, Retzower Straße 15\n17279 Lychen\nTelefon: +49 39888 3642\nEmail: 
 \nWebseite: https://www.Exotik-Kunst-Garten.de\n\nWeitere Informationen zu
 r Veranstaltung: http://test.reiseregion-flaeming.de/veranstaltung/uckerma
 rk/offene-gaerten-uckermark-exotik-kunst-garten-jens-nagel-retzow
CATEGORIES:Führung / Besichtigung,Schlösser\, Parks und Gärten
DTSTAMP:20260421T174305Z
END:VEVENT
END:VCALENDAR