BEGIN:VCALENDAR
VERSION:2.0
PRODID:test.reiseregion-flaeming.de
BEGIN:VEVENT
UID:69e7bdd38520c
DTSTART:20260913T080000Z
SEQUENCE:0
TRANSP:OPAQUE
DTEND:20260913T150000Z
URL:http://test.reiseregion-flaeming.de/veranstaltung/uckermark/sondertermi
 n-offene-gaerten-uckermark-lehmann-garten-templin
LOCATION:Stiftung Gebäudeensemble Joachimsthalsches Gymnasium Templin\, Pr
 enzlauer Allee 28\, 17268 Templin
X-APPLE-STRUCTURED-LOCATION;VALUE=URI;X-ADDRESS="Stiftung Gebäudeensemble 
 Joachimsthalsches Gymnasium Templin, Prenzlauer Allee 28, 17268 Templin";X
 -APPLE-RADIUS=49;X-TITLE=Stiftung Gebäudeensemble Joachimsthalsches Gymna
 sium Templin:geo:13.527260,53.125298
GEO:13.527260;53.125298
SUMMARY:Sondertermin Offene Gärten Uckermark: Lehmann-Garten Templin
CLASS:PUBLIC
DESCRIPTION:Im Rahmen des Tag des Offenen Denkmals öffnet der Lehmann-Gart
 en am Joachimsthalschen Gymnasium seine Gartenpforte von 10 bis 17 Uhr.  \
 n1607 durch Kurfürst Joachim Friedrich am Joachimsthalschen Gymnasium geg
 ründeter Botanischer Garten. Ab 1912 am Standort Templin durch den Lehrer
  Professor Gustav Lehmann zu besonderer Blüte entwickelter uckermärkisch
 er Artengarten\, heute Museums- und Schaugarten.\n\nKontakt:\n\nStiftung G
 ebäudeensemble Joachimsthalsches Gymnasium Templin\nPrenzlauer Allee 28\n
 17268 Templin\nTelefon: +49 +49 (0)39886-66150 (Dr. W. Gerhardt)\nEmail: \
 nWebseite: http://www.tourismus-uckermark.de/offenegaerten\n\nWeitere Info
 rmationen zur Veranstaltung: http://test.reiseregion-flaeming.de/veranstal
 tung/uckermark/sondertermin-offene-gaerten-uckermark-lehmann-garten-templi
 n
CATEGORIES:Führung / Besichtigung,Schlösser\, Parks und Gärten
DTSTAMP:20260421T181131Z
END:VEVENT
END:VCALENDAR