BEGIN:VCALENDAR
VERSION:2.0
PRODID:test.reiseregion-flaeming.de
BEGIN:VEVENT
UID:69e8b39b5018c
DTSTART:20260720T080000Z
SEQUENCE:0
TRANSP:OPAQUE
DTEND:20260720T100000Z
URL:http://test.reiseregion-flaeming.de/veranstaltung/spreewald/ferienprogr
 amm-wohin-mit-alten-buechern
LOCATION:Niederlausitz-Museum Luckau\, Nonnengasse 1\, 15926 Luckau
X-APPLE-STRUCTURED-LOCATION;VALUE=URI;X-ADDRESS="Niederlausitz-Museum Lucka
 u, Nonnengasse 1, 15926 Luckau";X-APPLE-RADIUS=49;X-TITLE=Niederlausitz-Mu
 seum Luckau:geo:13.716545,51.853222
GEO:13.716545;51.853222
SUMMARY:Ferienprogramm: Wohin mit alten Büchern?
CLASS:PUBLIC
DESCRIPTION:Bei unserem Ferienprogramm „Mit Feder und Siegel“ lernt ihr
 \, wie man Urkunden und Meisterbriefe schreibt. Nachdem wir uns verschiede
 ne Meisterbriefe und Urkunden im Original und Kopie angeschaut haben\, dü
 rft ihr selber aktiv werden. Dabei entdeckt ihr nicht nur alte Schriften\,
  sondern lernt auch mit Wachs zu siegeln.\n\nEure Urkunde oder Meisterbrie
 f dürft ihr im Anschluss mit nach Hause nehmen.\n\nKostenbeitrag: 3\,00 
 €\n\nKontakt:\n\nNiederlausitz-Museum Luckau\nNonnengasse 1\n15926 Lucka
 u\nTelefon: +49 3544 1299710\nEmail: museum@luckau.de\n\nWeitere Informati
 onen zur Veranstaltung: http://test.reiseregion-flaeming.de/veranstaltung/
 spreewald/ferienprogramm-wohin-mit-alten-buechern
CATEGORIES:Workshop / Seminar,Führung / Besichtigung
DTSTAMP:20260422T114011Z
END:VEVENT
END:VCALENDAR