BEGIN:VCALENDAR
VERSION:2.0
PRODID:test.reiseregion-flaeming.de
BEGIN:VEVENT
UID:69e82b3579e89
DTSTART:20260502T110000Z
SEQUENCE:0
TRANSP:OPAQUE
DTEND:20260502T160000Z
URL:http://test.reiseregion-flaeming.de/veranstaltung/havelland/offene-atel
 iers-2026-volkshochschule-havelland
LOCATION:Volkshochschule Havelland\, Poststraße 15\, 14612 Falkensee
X-APPLE-STRUCTURED-LOCATION;VALUE=URI;X-ADDRESS="Volkshochschule Havelland,
  Poststraße 15, 14612 Falkensee";X-APPLE-RADIUS=49;X-TITLE=Volkshochschul
 e Havelland:geo:13.093082,52.559330
GEO:13.093082;52.559330
SUMMARY:Offene Ateliers 2026 -  Volkshochschule Havelland
CLASS:PUBLIC
DESCRIPTION:Unter dem Titel „Best of Blue“ präsentieren wir Fotoarbeit
 en der Fotogruppe „Rahmen sucht Bild“.   \nDie Grafikerin Petra Steinb
 eiß zeigt Drucke und Gabriele Kriegel ihre handgeschöpften Papiere.  \nB
 eide bieten als Mitmachaktion eine offene Druckwerkstatt mit verschiedenen
  Materialien an.\n\nKontakt:\n\nLandkreis Havelland\nPlatz der Freiheit 1\
 n14712 Rathenow\nTelefon: \nEmail: \n\nWeitere Informationen zur Veranstal
 tung: http://test.reiseregion-flaeming.de/veranstaltung/havelland/offene-a
 teliers-2026-volkshochschule-havelland
CATEGORIES:Ausstellung
DTSTAMP:20260422T015813Z
END:VEVENT
END:VCALENDAR