BEGIN:VCALENDAR
VERSION:2.0
PRODID:test.reiseregion-flaeming.de
BEGIN:VEVENT
UID:69e8b368ce4b6
DTSTART:20260426T140000Z
SEQUENCE:0
TRANSP:OPAQUE
DTEND:20260426T153000Z
URL:http://test.reiseregion-flaeming.de/veranstaltung/ruppiner-seenland/zeh
 denick-klassik-2-konzert-der-gesamtauffuehrung-von-mozarts-klavierwerk
LOCATION:Klosterscheune Zehdenick\, Domänenweg 1\, 16792 Zehdenick
X-APPLE-STRUCTURED-LOCATION;VALUE=URI;X-ADDRESS="Klosterscheune Zehdenick, 
 Domänenweg 1, 16792 Zehdenick";X-APPLE-RADIUS=49;X-TITLE=Klosterscheune Z
 ehdenick:geo:13.337580,52.977328
GEO:13.337580;52.977328
SUMMARY:Zehdenick Klassik: 2. Konzert der Gesamtaufführung von Mozarts Kla
 vierwerk
CLASS:PUBLIC
DESCRIPTION:Im Rahmen von „Zehdenick Klassik“ erklingen ausgewählte Kl
 avierwerke von Wolfgang Amadeus Mozart in einer Gesamtaufführung.  Im Mit
 telpunkt des Programms stehen die Sonaten KV 310 und KV 311 sowie Variatio
 nen\, Klavierstücke und frühe Stücke aus dem “Londoner Notenbuch”.\
 n\nDie Werke interpretiert die Pianistin Naoko Fukumoto.  \nEine Veranstal
 tung von mibbs e.V.\n\nKontakt:\n\nMusik in Brandenburgischen Schlössern 
 e.V.\nForstweg 69c\n13465 Berlin\nTelefon: \nEmail: \n\nWeitere Informatio
 nen zur Veranstaltung: http://test.reiseregion-flaeming.de/veranstaltung/r
 uppiner-seenland/zehdenick-klassik-2-konzert-der-gesamtauffuehrung-von-moz
 arts-klavierwerk
CATEGORIES:Klassisches Konzert / Oper
DTSTAMP:20260422T113920Z
END:VEVENT
END:VCALENDAR