BEGIN:VCALENDAR
VERSION:2.0
PRODID:test.reiseregion-flaeming.de
BEGIN:VEVENT
UID:69e7d63383540
DTSTART:20260509T150000Z
SEQUENCE:0
TRANSP:OPAQUE
DTEND:20260509T163000Z
URL:http://test.reiseregion-flaeming.de/veranstaltung/potsdam/musik-ist-ein
 -wunder-junge-nachwuchsmusikerinnen-im-konzert
LOCATION:Französische Kirche\, Charlottenstraße 55-58\, 14467 Potsdam
X-APPLE-STRUCTURED-LOCATION;VALUE=URI;X-ADDRESS="Französische Kirche, Char
 lottenstraße 55-58, 14467 Potsdam";X-APPLE-RADIUS=49;X-TITLE=Französisch
 e Kirche:geo:13.062612,52.400551
GEO:13.062612;52.400551
SUMMARY:Musik ist ein Wunder - junge NachwuchsmusikerInnen im Konzert
CLASS:PUBLIC
DESCRIPTION:Nach dem erfolgreichen Start von „Musik ist ein Wunder“ 202
 5\, wobei eine ordentliche Spendensumme für das Kinderhospiz „Pusteblum
 e“ in Burg im Spreewald zusammengekommen ist\, wird diese berührende Re
 ihe auch 2026 fortgesetzt.\n\nKinder und Jugendliche des Julius-Stern-Inst
 ituts der Udk Berlin\, Leitung: Stefan Lietz\, präsentieren am 09.05.2026
  ihr faszinierendes Können in der klassischen Musik.  \nDas Julius-Stern-
 Institut Berlin gilt als das bedeutendste Institut der professionellen Nac
 hwuchs- und Hochbegabtenförderung Europas. Der Weg des langen Lernens der
  Kinder beginnt meistens in den frühen Kinderjahren. Bevor sie als junge 
 Erwachsene ein Studium aufnehmen\, entstehen hoch professionelle\, berühr
 ende Arbeiten\, die durch die Freude\, Hingabe und das Können dieser jung
 en Menschen eine ganz eigene\, besondere Faszination ausstrahlen\, die nur
  von ihnen in diesem Maße ausgelöst werden kann.\n\nDie Minsterin des La
 ndes Brandenburg Frau Dr. Manja Schüle ist Schirmherrin der Veranstaltung
 sreihe\, in der auch die Musikschule „Johann Sebastain Bach“ im Herbst
  auftreten wird.\n\nBenefizkonzert für das Kinderhospiz \"Pusteblume\" in
  Burg/ Spreewald  \nes musizieren Jungstudierende des Julius-Stern-Institu
 t der UdK Berlin  \nSchirmherrschaft: [Frau Dr. Manja Schüle](https://mwf
 k.brandenburg.de/mwfk/de/ministerium/ministerin-manja-schuele/)  \nModerat
 ion: [Jens Lehmann](https://www.radiodrei.de/programm/team/team/jens_lehma
 nn.html) (rbb radio Kultur)\n\nKontakt:\n\nTheaterschiff Potsdam e.V.\nHen
 drik Horn\nSchiffbauergasse 9b\n14467 Potsdam\nTelefon: +49 331 23616489\n
 Email: kontakt@theaterschiff-potsdam.de\nWebseite: http://www.theaterschif
 f-potsdam.de\n\nWeitere Informationen zur Veranstaltung: http://test.reise
 region-flaeming.de/veranstaltung/potsdam/musik-ist-ein-wunder-junge-nachwu
 chsmusikerinnen-im-konzert
CATEGORIES:Klassisches Konzert / Oper
DTSTAMP:20260421T195531Z
END:VEVENT
END:VCALENDAR