BEGIN:VCALENDAR
VERSION:2.0
PRODID:test.reiseregion-flaeming.de
BEGIN:VEVENT
UID:69e7c2e65a7d7
DTSTART:20260614T140000Z
SEQUENCE:0
TRANSP:OPAQUE
DTEND:20260614T160000Z
URL:http://test.reiseregion-flaeming.de/veranstaltung/barnimer-land/populae
 re-klassik-in-zusammenarbeit-mit-der-ms-barnim
LOCATION:Maria Magdalenen Kirche\, Kirchstraße\, 16225 Eberswalde
X-APPLE-STRUCTURED-LOCATION;VALUE=URI;X-ADDRESS="Maria Magdalenen Kirche, K
 irchstraße, 16225 Eberswalde";X-APPLE-RADIUS=49;X-TITLE=Maria Magdalenen 
 Kirche:geo:13.819746,52.832657
GEO:13.819746;52.832657
SUMMARY:Populäre Klassik – in Zusammenarbeit mit der MS Barnim
CLASS:PUBLIC
DESCRIPTION:Das Konzert „Populäre Klassik“ am Sonntag\, den 14. 06. 20
 26 um 16:00 Uhr in der Maria Magdalenen Kirche in Eberswalde mit dem Brand
 enburgischen Konzertorchesters Eberswalde verspricht auch in diesem Jahr e
 in wunderbares Erlebnis zu werden! Unter der musikalischen Leitung von Jen
 s Georg Bachmann lädt das Eberswalder Ensemble bereits zum dritten Mal Sc
 hülerinnen und Schüler der Musikschule Barnim ein\, bei diesem Konzert a
 ls Solisten mitzuwirken. Das abwechslungsreiche Programm wird u. a. klassi
 sche Stücke von G. F. Händel\, A. Vivaldi\, J. Brahms\, F. Schubert und 
 G. Rossini umfassen. Die jungen Künstlerinnen und Künstler beweisen ihr 
 musikalisches Talent an der Violine\, dem Violoncello und im Gesang. Diese
 s Konzert wird ermöglicht durch die Unterstützung der Evangelischen Kirc
 hengemeinde Eberswalde. Wir freuen uns sehr\, damit den jungen Musikschül
 ern\, die teilweise auch Preisträger beim Wettbewerb \"Jugend musiziert\"
  sind\, ein Konzertpodium in der Maria Magdalenen Kirche mit unserem Ensem
 ble bieten zu können.\n\nKontakt:\n\nBrandenburgisches Konzertorchester E
 berswalde e. V.\nNaumannstr.  3 c\n16225 Eberswalde\nTelefon: \nEmail: inf
 o@b-k-e.info\nWebseite: https://www.klassikauseberswalde.de/\n\nWeitere In
 formationen zur Veranstaltung: http://test.reiseregion-flaeming.de/veranst
 altung/barnimer-land/populaere-klassik-in-zusammenarbeit-mit-der-ms-barnim
CATEGORIES:Klassisches Konzert / Oper
DTSTAMP:20260421T183310Z
END:VEVENT
END:VCALENDAR