BEGIN:VCALENDAR
VERSION:2.0
PRODID:test.reiseregion-flaeming.de
BEGIN:VEVENT
UID:69e78315d9fdc
DTSTART:20260502T150000Z
SEQUENCE:0
TRANSP:OPAQUE
DTEND:20260502T160000Z
URL:http://test.reiseregion-flaeming.de/veranstaltung/uckermark/tag-des-off
 enen-ateliers-haus-mit-zukunft-konzert-der-gruppe-trio-viva-la-vida
LOCATION:Haus mit Zukunft\, Schwedter Straße  14\, 16278 Angermünde
X-APPLE-STRUCTURED-LOCATION;VALUE=URI;X-ADDRESS="Haus mit Zukunft, Schwedte
 r Straße  14, 16278 Angermünde";X-APPLE-RADIUS=49;X-TITLE=Haus mit Zukun
 ft:geo:14.000309,53.015930
GEO:14.000309;53.015930
SUMMARY:Tag des Offenen Ateliers - Haus mit Zukunft - Konzert der Gruppe 
 „Trio Viva la Vida“
CLASS:PUBLIC
DESCRIPTION:Das „Haus mit Zukunft“ in Angermünde ist mit Künstlerinne
 n und Künstlern unterschiedlichster Richtungen vertreten. Alle arbeiten i
 m „Haus mit Zukunft“ und nutzen die Räume und die kreative Atmosphär
 e des Hauses. Am „Tag des Offenen Ateliers“ können verschiedene Arbei
 ten betrachtet werden - Tiefdruckarbeiten\, Collagen\, Malerei sowie Kunst
 werke aus Wolle\, Glas\, Papier. Die Künstlerinnen und Künstler werden v
 or Ort sein und freuen sich\, über ihre Arbeiten ins Gespräch zu kommen.
  Es gibt viel Interessantes zu entdecken: wie entstehen Tiefdrucke mithilf
 e von Tetra Paks\, wie können Glasscheiben miteinander verschmelzen und d
 araus Kunst entstehen\, wie werden aus Papier kleine Kunstwerke recycelt\,
  welche  \nkreativen Projekte hat sich die Gruppe „offener Werkraum“ v
 orgenommen? In der 2. Etage sind Zeichnungen aus dem Aktkurs zu sehen. Die
  „Brücke der Kulturen“ wird für internationale Leckereien zwischendu
 rch sorgen.  \n  \n**Zum Ausklang des Tages gibt es um 17:00 Uhr ein einst
 ündiges Konzert der Gruppe „Trio Viva la Vida“ – passend zum Tag: 
 „Songs (und Texte) zu Farben & Malerei“.**  \n  \n14:00 bis 18:00 Uhr\
 n\nGlaswerkstatt  \nMonika Schuh – Glasbilder und Glasobjekte  \nAgnes R
 unde – Glasbilder und Skulpturen  \n  \nOffener Werkraum  \nKathrin Brü
 ggemann - Collagen  \nBenjamin Brüggemann - Collagen  \nKristina Eberler 
 – Tiefdruckarbeiten  \nAndreas Eberler - Tiefdruckarbeiten  \nAgnes Rund
 e – Tiefdruckarbeiten und Papierskulpturen  \n  \nWollwerkstatt  \nUlrik
 e Fritz und Spinnfrauen  \n  \n2\\. Etage\, Flur  \nLisa Reichl\, Zeichnun
 gen aus dem Aktkurs\n\nKontakt:\n\nUckermärkische Literaturgesellschaft e
 .V.\nHoher Steinweg 17/18\n16278 Angermünde\nTelefon: +49 152/31644799\nE
 mail: info@uckermaerkische-literaturgesellschaft.de\nWebseite: https://uck
 ermaerkische-literaturgesellschaft.de\n\nWeitere Informationen zur Veranst
 altung: http://test.reiseregion-flaeming.de/veranstaltung/uckermark/tag-de
 s-offenen-ateliers-haus-mit-zukunft-konzert-der-gruppe-trio-viva-la-vida
CATEGORIES:Führung / Besichtigung
DTSTAMP:20260421T140053Z
END:VEVENT
END:VCALENDAR