BEGIN:VCALENDAR
VERSION:2.0
PRODID:test.reiseregion-flaeming.de
BEGIN:VEVENT
UID:69e7d1b16b618
DTSTART:20260508T170000Z
SEQUENCE:0
TRANSP:OPAQUE
DTEND:20260508T183000Z
URL:http://test.reiseregion-flaeming.de/veranstaltung/flaeming/konzert-trio
 -st-tropez
LOCATION:GEDOK Haus Rangsdorf\, Seebadallee 45\, 15834 Rangsdorf
X-APPLE-STRUCTURED-LOCATION;VALUE=URI;X-ADDRESS="GEDOK Haus Rangsdorf, Seeb
 adallee 45, 15834 Rangsdorf";X-APPLE-RADIUS=49;X-TITLE=GEDOK Haus Rangsdor
 f:geo:13.424447,52.292197
GEO:13.424447;52.292197
SUMMARY:KONZERT | TRIO ST TROPEZ
CLASS:PUBLIC
DESCRIPTION:Im TRIO ST TROPEZ tauchen die Geigerin Julia Czerniawska\, die 
 Baritonsaxophonistin Almut Schlichting und der Kontrabassist Sven Hinse in
  die Welt des französischen Jazz & Swing ein. Collagenhaft-surrealistisch
  gemischt mit Faux Latin Grooves\, Geräusch-Improvisationen und kammermus
 ikalischen Miniaturen wird daraus ein mulitkultureller melting pot zwische
 n Paris\, New York und Berlin. Für das Konzert bei der GEDOK legt das Tri
 o seinen Focus auf französische Jazz-Künstlerinnen\, die in der Zeit von
  1930-1960 aktiv waren\, wie etwa Marguerite Monnot\, Mimi Perrin oder Chr
 istine Legrand.\n\n[**www.triosainttropez.de**](http://www.triosainttropez
 .de/)\n\nKontakt:\n\nAnmeldung unter: anmeldung@gedok-brandenburg.de\nSeeb
 adallee 45\n15834 Rangsdorf\nTelefon: +49 33708 70733\nEmail: \nWebseite: 
 https://www.gedok-brandenburg.de\n\nWeitere Informationen zur Veranstaltun
 g: http://test.reiseregion-flaeming.de/veranstaltung/flaeming/konzert-trio
 -st-tropez
CATEGORIES:Rock / Pop / Jazz
DTSTAMP:20260421T193617Z
END:VEVENT
END:VCALENDAR