BEGIN:VCALENDAR
VERSION:2.0
PRODID:test.reiseregion-flaeming.de
BEGIN:VEVENT
UID:69e7bd7f5dcf7
DTSTART:20260502T110000Z
SEQUENCE:0
TRANSP:OPAQUE
DTEND:20260502T150000Z
URL:http://test.reiseregion-flaeming.de/veranstaltung/havelland/offene-atel
 iers-2026-atelier-karin-viesel
LOCATION:Atelier Karin Viesel\, Lortzingallee  13\, 14612 Falkensee
X-APPLE-STRUCTURED-LOCATION;VALUE=URI;X-ADDRESS="Atelier Karin Viesel, Lort
 zingallee  13, 14612 Falkensee";X-APPLE-RADIUS=49;X-TITLE=Atelier Karin Vi
 esel:geo:13.128520,52.574079
GEO:13.128520;52.574079
SUMMARY:Offene Ateliers 2026 -  Atelier Karin Viesel
CLASS:PUBLIC
DESCRIPTION:Grafik\, Malerei\, Zeichnung\n\nKontakt:\n\nLandkreis Havelland
 \nPlatz der Freiheit 1\n14712 Rathenow\nTelefon: \nEmail: \n\nWeitere Info
 rmationen zur Veranstaltung: http://test.reiseregion-flaeming.de/veranstal
 tung/havelland/offene-ateliers-2026-atelier-karin-viesel
CATEGORIES:Ausstellung
DTSTAMP:20260421T181007Z
END:VEVENT
BEGIN:VEVENT
UID:69e7bd7fa5b93
DTSTART:20260503T110000Z
SEQUENCE:0
TRANSP:OPAQUE
DTEND:20260503T150000Z
URL:http://test.reiseregion-flaeming.de/veranstaltung/havelland/offene-atel
 iers-2026-atelier-karin-viesel
LOCATION:Atelier Karin Viesel\, Lortzingallee  13\, 14612 Falkensee
X-APPLE-STRUCTURED-LOCATION;VALUE=URI;X-ADDRESS="Atelier Karin Viesel, Lort
 zingallee  13, 14612 Falkensee";X-APPLE-RADIUS=49;X-TITLE=Atelier Karin Vi
 esel:geo:13.128520,52.574079
GEO:13.128520;52.574079
SUMMARY:Offene Ateliers 2026 -  Atelier Karin Viesel
CLASS:PUBLIC
DESCRIPTION:Grafik\, Malerei\, Zeichnung\n\nKontakt:\n\nLandkreis Havelland
 \nPlatz der Freiheit 1\n14712 Rathenow\nTelefon: \nEmail: \n\nWeitere Info
 rmationen zur Veranstaltung: http://test.reiseregion-flaeming.de/veranstal
 tung/havelland/offene-ateliers-2026-atelier-karin-viesel
CATEGORIES:Ausstellung
DTSTAMP:20260421T181007Z
END:VEVENT
END:VCALENDAR