BEGIN:VCALENDAR
VERSION:2.0
PRODID:test.reiseregion-flaeming.de
BEGIN:VEVENT
UID:69e7c5ee994ca
DTSTART:20260502T120000Z
SEQUENCE:0
TRANSP:OPAQUE
DTEND:20260502T160000Z
URL:http://test.reiseregion-flaeming.de/veranstaltung/havelland/offene-atel
 iers-2026-atelier-ingrid-und-reinhard-wolff
LOCATION:Atelier Ingrid und Reinhard Wolff\, Fischerstraße  41\, 14612 Fal
 kensee
X-APPLE-STRUCTURED-LOCATION;VALUE=URI;X-ADDRESS="Atelier Ingrid und Reinhar
 d Wolff, Fischerstraße  41, 14612 Falkensee";X-APPLE-RADIUS=49;X-TITLE=At
 elier Ingrid und Reinhard Wolff:geo:13.095026,52.551358
GEO:13.095026;52.551358
SUMMARY:Offene Ateliers 2026 -  Atelier Ingrid und Reinhard Wolff
CLASS:PUBLIC
DESCRIPTION:Malerei \, Kunsthandwerk\n\nGastkünstler: Die Farbenfänger - 
 Keramik\, Malerei\n\nKontakt:\n\nLandkreis Havelland\nPlatz der Freiheit 1
 \n14712 Rathenow\nTelefon: \nEmail: \n\nWeitere Informationen zur Veransta
 ltung: http://test.reiseregion-flaeming.de/veranstaltung/havelland/offene-
 ateliers-2026-atelier-ingrid-und-reinhard-wolff
CATEGORIES:Ausstellung
DTSTAMP:20260421T184608Z
END:VEVENT
BEGIN:VEVENT
UID:69e7c5eec3a39
DTSTART:20260503T090000Z
SEQUENCE:0
TRANSP:OPAQUE
DTEND:20260503T160000Z
URL:http://test.reiseregion-flaeming.de/veranstaltung/havelland/offene-atel
 iers-2026-atelier-ingrid-und-reinhard-wolff
LOCATION:Atelier Ingrid und Reinhard Wolff\, Fischerstraße  41\, 14612 Fal
 kensee
X-APPLE-STRUCTURED-LOCATION;VALUE=URI;X-ADDRESS="Atelier Ingrid und Reinhar
 d Wolff, Fischerstraße  41, 14612 Falkensee";X-APPLE-RADIUS=49;X-TITLE=At
 elier Ingrid und Reinhard Wolff:geo:13.095026,52.551358
GEO:13.095026;52.551358
SUMMARY:Offene Ateliers 2026 -  Atelier Ingrid und Reinhard Wolff
CLASS:PUBLIC
DESCRIPTION:Malerei \, Kunsthandwerk\n\nGastkünstler: Die Farbenfänger - 
 Keramik\, Malerei\n\nKontakt:\n\nLandkreis Havelland\nPlatz der Freiheit 1
 \n14712 Rathenow\nTelefon: \nEmail: \n\nWeitere Informationen zur Veransta
 ltung: http://test.reiseregion-flaeming.de/veranstaltung/havelland/offene-
 ateliers-2026-atelier-ingrid-und-reinhard-wolff
CATEGORIES:Ausstellung
DTSTAMP:20260421T184608Z
END:VEVENT
END:VCALENDAR