BEGIN:VCALENDAR
VERSION:2.0
PRODID:test.reiseregion-flaeming.de
BEGIN:VEVENT
UID:69e819988ab2c
DTSTART:20260502T120000Z
SEQUENCE:0
TRANSP:OPAQUE
DTEND:20260502T160000Z
URL:http://test.reiseregion-flaeming.de/veranstaltung/havelland/offene-atel
 iers-2026-atelier-brigitte-herb-und-guenter-bonifer
LOCATION:Atelier Brigitte Herb & Günter Bonifer\, Clara Zetkin Straße  35
 \, 14612 Falkensee
X-APPLE-STRUCTURED-LOCATION;VALUE=URI;X-ADDRESS="Atelier Brigitte Herb & G
 ünter Bonifer, Clara Zetkin Straße  35, 14612 Falkensee";X-APPLE-RADIUS=
 49;X-TITLE=Atelier Brigitte Herb & Günter Bonifer:geo:13.082402,52.551721
GEO:13.082402;52.551721
SUMMARY:Offene Ateliers 2026 -  Atelier Brigitte Herb & Günter Bonifer
CLASS:PUBLIC
DESCRIPTION:Keramik\, Filzkunst & Bildhauerei\, Keramik\n\nBei schönem Wet
 ter öffnen wir wieder unser “Wiesencafé”\n\nKontakt:\n\nLandkreis Ha
 velland\nPlatz der Freiheit 1\n14712 Rathenow\nTelefon: \nEmail: \n\nWeite
 re Informationen zur Veranstaltung: http://test.reiseregion-flaeming.de/ve
 ranstaltung/havelland/offene-ateliers-2026-atelier-brigitte-herb-und-guent
 er-bonifer
CATEGORIES:Ausstellung
DTSTAMP:20260422T004304Z
END:VEVENT
BEGIN:VEVENT
UID:69e8199892f23
DTSTART:20260503T090000Z
SEQUENCE:0
TRANSP:OPAQUE
DTEND:20260503T160000Z
URL:http://test.reiseregion-flaeming.de/veranstaltung/havelland/offene-atel
 iers-2026-atelier-brigitte-herb-und-guenter-bonifer
LOCATION:Atelier Brigitte Herb & Günter Bonifer\, Clara Zetkin Straße  35
 \, 14612 Falkensee
X-APPLE-STRUCTURED-LOCATION;VALUE=URI;X-ADDRESS="Atelier Brigitte Herb & G
 ünter Bonifer, Clara Zetkin Straße  35, 14612 Falkensee";X-APPLE-RADIUS=
 49;X-TITLE=Atelier Brigitte Herb & Günter Bonifer:geo:13.082402,52.551721
GEO:13.082402;52.551721
SUMMARY:Offene Ateliers 2026 -  Atelier Brigitte Herb & Günter Bonifer
CLASS:PUBLIC
DESCRIPTION:Keramik\, Filzkunst & Bildhauerei\, Keramik\n\nBei schönem Wet
 ter öffnen wir wieder unser “Wiesencafé”\n\nKontakt:\n\nLandkreis Ha
 velland\nPlatz der Freiheit 1\n14712 Rathenow\nTelefon: \nEmail: \n\nWeite
 re Informationen zur Veranstaltung: http://test.reiseregion-flaeming.de/ve
 ranstaltung/havelland/offene-ateliers-2026-atelier-brigitte-herb-und-guent
 er-bonifer
CATEGORIES:Ausstellung
DTSTAMP:20260422T004304Z
END:VEVENT
END:VCALENDAR