BEGIN:VCALENDAR
VERSION:2.0
PRODID:test.reiseregion-flaeming.de
BEGIN:VEVENT
UID:69e758ba6d6ff
DTSTART:20260501T160000Z
SEQUENCE:0
TRANSP:OPAQUE
DTEND:20260501T180000Z
URL:http://test.reiseregion-flaeming.de/veranstaltung/seenland-oder-spree/l
 oulia-esteves-acoustic-soul
LOCATION:Thierbachshof\, Straße der Freundschaft 2\, 15518 Steinhöfel
X-APPLE-STRUCTURED-LOCATION;VALUE=URI;X-ADDRESS="Thierbachshof, Straße der
  Freundschaft 2, 15518 Steinhöfel";X-APPLE-RADIUS=49;X-TITLE=Thierbachsho
 f:geo:14.164561,52.400205
GEO:14.164561;52.400205
SUMMARY:Loulia Esteves – Acoustic Soul
CLASS:PUBLIC
DESCRIPTION:Loulia Esteves ist eine in Frankreich geborene Sängerin mit wa
 rmer\, zugleich kraftvoller Stimme. Heute lebt sie in Berlin\, musikalisch
  geprägt wurde sie jedoch auch durch mehrere Jahre in Südkorea\, wo sie 
 Musik studierte und sogar im Umfeld der K-Pop-Szene auftrat – unter ande
 rem gemeinsam mit PSY im Fernsehen.\n\nEin breiteres Publikum erreichte si
 e zuletzt bei **The Voice of Germany 2024** \, wo sie es bis ins Halbfinal
 e schaffte. Ihr Stil verbindet R&B\, Funk und Soul – voller Groove\, Gef
 ühl und Bühnenpräsenz.\n\nIn Steinhöfel erleben wir Loulia ganz pur: *
 *Gesang und Piano** \, reduziert auf das Wesentliche. Eine Stimme\, die tr
 ägt. Songs\, die Nähe schaffen. Ein Abend für alle\, die Soul nicht nur
  hören\, sondern spüren möchten.\n\nKontakt:\n\nKultursaison Steinhöfe
 l\nStrasse der Freundschaft 2\n15518 Steinhöfel\nTelefon: +49 (0)33636  2
 59974\nEmail: \nWebseite: https://kultursaison-steinhoefel.de/\n\nWeitere 
 Informationen zur Veranstaltung: http://test.reiseregion-flaeming.de/veran
 staltung/seenland-oder-spree/loulia-esteves-acoustic-soul
CATEGORIES:Rock / Pop / Jazz,Kinder und Jugendliche
DTSTAMP:20260421T110010Z
END:VEVENT
END:VCALENDAR