BEGIN:VCALENDAR
VERSION:2.0
PRODID:test.reiseregion-flaeming.de
BEGIN:VEVENT
UID:69e76ba49725c
DTSTART:20260423T160000Z
SEQUENCE:0
TRANSP:OPAQUE
DTEND:20260423T170000Z
URL:http://test.reiseregion-flaeming.de/veranstaltung/seenland-oder-spree/p
 oesieabend-mit-anna-lazdowska-elinska-pl
LOCATION:Slubickie Centrum Organizacji Pozarzadowych\, Piłsudskiego 3\, 69
 -100 Słubice
X-APPLE-STRUCTURED-LOCATION;VALUE=URI;X-ADDRESS="Slubickie Centrum Organiza
 cji Pozarzadowych, Piłsudskiego 3, 69-100 Słubice";X-APPLE-RADIUS=49;X-T
 ITLE=Slubickie Centrum Organizacji Pozarzadowych:geo:14.561500,52.351296
GEO:14.561500;52.351296
SUMMARY:Poesieabend mit Anna Łazdowska-Elińska (PL)
CLASS:PUBLIC
DESCRIPTION:Am 23. April laden der Verein „Niezwyciężeni“ und die aus
  Słubice stammende Anna Łazdowska-Elińska zu einem Abend mit Literatur 
 ein.\n\nDie Veranstaltung findet in polnischer Sprache statt.\n\nKontakt:\
 n\nStowarzyszenie Niezwyciezeni\nNarutowicza 32/4\n69-100 Słubice\nTelefo
 n: +48 601 641 504\nEmail: tomczakrobertfsl@gmail.com\nWebseite: https://p
 aderka.pl\n\nWeitere Informationen zur Veranstaltung: http://test.reisereg
 ion-flaeming.de/veranstaltung/seenland-oder-spree/poesieabend-mit-anna-laz
 dowska-elinska-pl
CATEGORIES:Lesung / Vortrag
DTSTAMP:20260421T122052Z
END:VEVENT
END:VCALENDAR