BEGIN:VCALENDAR
VERSION:2.0
PRODID:test.reiseregion-flaeming.de
BEGIN:VEVENT
UID:69e7aad41cabf
DTSTART:20260502T120000Z
SEQUENCE:0
TRANSP:OPAQUE
DTEND:20260502T160000Z
URL:http://test.reiseregion-flaeming.de/veranstaltung/havelland/offene-atel
 iers-2026-atelier-felicia-meynersen
LOCATION:Atelier Felicia Meynersen\, Pestalozzistraße  153\, 14612 Falkens
 ee
X-APPLE-STRUCTURED-LOCATION;VALUE=URI;X-ADDRESS="Atelier Felicia Meynersen,
  Pestalozzistraße  153, 14612 Falkensee";X-APPLE-RADIUS=49;X-TITLE=Atelie
 r Felicia Meynersen:geo:13.141260,52.569935
GEO:13.141260;52.569935
SUMMARY:Offene Ateliers 2026 -  Atelier Felicia Meynersen
CLASS:PUBLIC
DESCRIPTION:Grafik \, Malerei\n\nKontakt:\n\nLandkreis Havelland\nPlatz der
  Freiheit 1\n14712 Rathenow\nTelefon: \nEmail: \n\nWeitere Informationen z
 ur Veranstaltung: http://test.reiseregion-flaeming.de/veranstaltung/havell
 and/offene-ateliers-2026-atelier-felicia-meynersen
CATEGORIES:Ausstellung
DTSTAMP:20260421T165028Z
END:VEVENT
BEGIN:VEVENT
UID:69e7aad41ec92
DTSTART:20260503T090000Z
SEQUENCE:0
TRANSP:OPAQUE
DTEND:20260503T160000Z
URL:http://test.reiseregion-flaeming.de/veranstaltung/havelland/offene-atel
 iers-2026-atelier-felicia-meynersen
LOCATION:Atelier Felicia Meynersen\, Pestalozzistraße  153\, 14612 Falkens
 ee
X-APPLE-STRUCTURED-LOCATION;VALUE=URI;X-ADDRESS="Atelier Felicia Meynersen,
  Pestalozzistraße  153, 14612 Falkensee";X-APPLE-RADIUS=49;X-TITLE=Atelie
 r Felicia Meynersen:geo:13.141260,52.569935
GEO:13.141260;52.569935
SUMMARY:Offene Ateliers 2026 -  Atelier Felicia Meynersen
CLASS:PUBLIC
DESCRIPTION:Grafik \, Malerei\n\nKontakt:\n\nLandkreis Havelland\nPlatz der
  Freiheit 1\n14712 Rathenow\nTelefon: \nEmail: \n\nWeitere Informationen z
 ur Veranstaltung: http://test.reiseregion-flaeming.de/veranstaltung/havell
 and/offene-ateliers-2026-atelier-felicia-meynersen
CATEGORIES:Ausstellung
DTSTAMP:20260421T165028Z
END:VEVENT
END:VCALENDAR