BEGIN:VCALENDAR
VERSION:2.0
PRODID:test.reiseregion-flaeming.de
BEGIN:VEVENT
UID:69e7ddcf0d972
DTSTART:20260502T120000Z
SEQUENCE:0
TRANSP:OPAQUE
DTEND:20260502T160000Z
URL:http://test.reiseregion-flaeming.de/veranstaltung/havelland/offene-atel
 iers-2026-atelier-chw-art
LOCATION:CHW ART Atelier\, Heckmannstraße  61 - 63\, 14612 Falkensee
X-APPLE-STRUCTURED-LOCATION;VALUE=URI;X-ADDRESS="CHW ART Atelier, Heckmanns
 traße  61 - 63, 14612 Falkensee";X-APPLE-RADIUS=49;X-TITLE=CHW ART Atelie
 r:geo:13.090485,52.554259
GEO:13.090485;52.554259
SUMMARY:Offene Ateliers 2026 -  Atelier CHW ART
CLASS:PUBLIC
DESCRIPTION:Fotografie \, Malerei\n\nKontakt:\n\nLandkreis Havelland\nPlatz
  der Freiheit 1\n14712 Rathenow\nTelefon: \nEmail: \n\nWeitere Information
 en zur Veranstaltung: http://test.reiseregion-flaeming.de/veranstaltung/ha
 velland/offene-ateliers-2026-atelier-chw-art
CATEGORIES:Ausstellung
DTSTAMP:20260421T202759Z
END:VEVENT
BEGIN:VEVENT
UID:69e7ddcf256fa
DTSTART:20260503T090000Z
SEQUENCE:0
TRANSP:OPAQUE
DTEND:20260503T160000Z
URL:http://test.reiseregion-flaeming.de/veranstaltung/havelland/offene-atel
 iers-2026-atelier-chw-art
LOCATION:CHW ART Atelier\, Heckmannstraße  61 - 63\, 14612 Falkensee
X-APPLE-STRUCTURED-LOCATION;VALUE=URI;X-ADDRESS="CHW ART Atelier, Heckmanns
 traße  61 - 63, 14612 Falkensee";X-APPLE-RADIUS=49;X-TITLE=CHW ART Atelie
 r:geo:13.090485,52.554259
GEO:13.090485;52.554259
SUMMARY:Offene Ateliers 2026 -  Atelier CHW ART
CLASS:PUBLIC
DESCRIPTION:Fotografie \, Malerei\n\nKontakt:\n\nLandkreis Havelland\nPlatz
  der Freiheit 1\n14712 Rathenow\nTelefon: \nEmail: \n\nWeitere Information
 en zur Veranstaltung: http://test.reiseregion-flaeming.de/veranstaltung/ha
 velland/offene-ateliers-2026-atelier-chw-art
CATEGORIES:Ausstellung
DTSTAMP:20260421T202759Z
END:VEVENT
END:VCALENDAR