BEGIN:VCALENDAR
VERSION:2.0
PRODID:test.reiseregion-flaeming.de
BEGIN:VEVENT
UID:69e7c233a9317
DTSTART:20260623T180000Z
SEQUENCE:0
TRANSP:OPAQUE
DTEND:20260623T193000Z
URL:http://test.reiseregion-flaeming.de/veranstaltung/seenland-oder-spree/3
 8-internationaler-orgelzyklus
LOCATION:St.-Gertraud-Kirche Frankfurt (Oder)\, Gertraudenplatz 6\, 15230 F
 rankfurt (Oder)
X-APPLE-STRUCTURED-LOCATION;VALUE=URI;X-ADDRESS="St.-Gertraud-Kirche Frankf
 urt (Oder), Gertraudenplatz 6, 15230 Frankfurt (Oder)";X-APPLE-RADIUS=49;X
 -TITLE=St.-Gertraud-Kirche Frankfurt (Oder):geo:14.553215,52.338570
GEO:14.553215;52.338570
SUMMARY:38. Internationaler Orgelzyklus
CLASS:PUBLIC
DESCRIPTION:\"Wir sehen jetzt durch einen Spiegel\" - Konzert für Bariton 
 und Orgel \n\nJohannes Brahms: Vier ernste Gesänge  \nAntonin Dvorak: Aus
 wahl an Biblischen Liedern  \nFranz Liszt: Cantico di San Francesco  \nOsk
 ar Gottlieb Blarr: Tefila lemosche (Gebet des Moses\, Ps. 90)\n\nStefan Ad
 am\, Hannover – Bariton                  \nDietrich Modersohn\, Jena –
  Orgel\n\nKontakt:\n\nKirchenmusik\nBerendsstr. 1\n15232 Frankfurt (Oder)\
 nTelefon: +49 335 54 54 00\nEmail: hardt@kirchenmusik-ffo.de\nWebseite: ht
 tps://www.kirchenmusik-ffo.de\n\nWeitere Informationen zur Veranstaltung: 
 http://test.reiseregion-flaeming.de/veranstaltung/seenland-oder-spree/38-i
 nternationaler-orgelzyklus
CATEGORIES:Klassisches Konzert / Oper
DTSTAMP:20260421T183011Z
END:VEVENT
END:VCALENDAR