BEGIN:VCALENDAR
VERSION:2.0
PRODID:test.reiseregion-flaeming.de
BEGIN:VEVENT
UID:69e776d2b92d9
DTSTART:20260502T050000Z
SEQUENCE:0
TRANSP:OPAQUE
DTEND:20260502T090000Z
URL:http://test.reiseregion-flaeming.de/veranstaltung/uckermark/naturspazie
 rgang-vogelstimmenwanderung-mit-der-kulturkapelle-stolpe-strich-oder-ev
LOCATION:Kanalbrücke Stolpe (Oder)\, 16278 Angermünde
X-APPLE-STRUCTURED-LOCATION;VALUE=URI;X-ADDRESS="Kanalbrücke Stolpe (Oder)
 , 16278 Angermünde";X-APPLE-RADIUS=49;X-TITLE=Kanalbrücke Stolpe (Oder):
 geo:14.114283,52.977495
GEO:14.114283;52.977495
SUMMARY:Naturspaziergang - Vogelstimmenwanderung mit der KulturKapelle Stol
 pe/Oder e.V.
CLASS:PUBLIC
DESCRIPTION:Die KulturKapelle Stolpe/Oder e.V. lädt zu einem frühmorgendl
 ichen Spaziergang durch die Vogelwelt ein. Gemeinsam mit Kathleen Thal ent
 decken die Teilnehmenden die vielfältigen Stimmen der heimischen Vogelart
 en und erfahren Wissenswertes über ihre Lebensräume.   \n  \nBitte wette
 rfeste Kleidung und wenn möglich ein Fernglas mitbringen. \n\nTreffpunkt:
    \nKanalbrücke Stolpe/Oder  \n16278 Angermünde\n\nKontakt:\n\nKulturKa
 pelle Stolpe (Oder) e. V.\nAnja Freyhoff\n\n \nTelefon: +49 176 21865722\n
 Email: kulturkapelle.stolpe@gmx.net\nWebseite: https://kulturkapelle.wordp
 ress.com\n\nWeitere Informationen zur Veranstaltung: http://test.reiseregi
 on-flaeming.de/veranstaltung/uckermark/naturspaziergang-vogelstimmenwander
 ung-mit-der-kulturkapelle-stolpe-strich-oder-ev
CATEGORIES:Exkursion / Wanderung
DTSTAMP:20260421T130834Z
END:VEVENT
END:VCALENDAR