BEGIN:VCALENDAR
VERSION:2.0
PRODID:test.reiseregion-flaeming.de
BEGIN:VEVENT
UID:69e7bcb663f5b
DTSTART:20260621T133000Z
SEQUENCE:0
TRANSP:OPAQUE
DTEND:20260621T143000Z
URL:http://test.reiseregion-flaeming.de/veranstaltung/seenland-oder-spree/q
 uerblechein-eine-musikalische-reise-durch-die-epochen-der-musik
LOCATION:Heilandskapelle Frankfurt (Oder)\, Eichenweg 41\, 15230 Frankfurt 
 (Oder)
X-APPLE-STRUCTURED-LOCATION;VALUE=URI;X-ADDRESS="Heilandskapelle Frankfurt 
 (Oder), Eichenweg 41, 15230 Frankfurt (Oder)";X-APPLE-RADIUS=49;X-TITLE=He
 ilandskapelle Frankfurt (Oder):geo:14.512441,52.361281
GEO:14.512441;52.361281
SUMMARY:„Querblechein“ - Eine musikalische Reise durch die Epochen der 
 Musik
CLASS:PUBLIC
DESCRIPTION:Eine musikalische Reise durch die Epochen der Musik  \nPosaunen
 chor Frankfurt (Oder)  \nLeitung: Siegfried Zühlke\n\nKontakt:\n\nKirchen
 musik\nBerendsstr. 1\n15232 Frankfurt (Oder)\nTelefon: +49 335 54 54 00\nE
 mail: hardt@kirchenmusik-ffo.de\nWebseite: https://www.kirchenmusik-ffo.de
 \n\nWeitere Informationen zur Veranstaltung: http://test.reiseregion-flaem
 ing.de/veranstaltung/seenland-oder-spree/querblechein-eine-musikalische-re
 ise-durch-die-epochen-der-musik
CATEGORIES:Klassisches Konzert / Oper
DTSTAMP:20260421T180646Z
END:VEVENT
END:VCALENDAR