BEGIN:VCALENDAR
VERSION:2.0
PRODID:test.reiseregion-flaeming.de
BEGIN:VEVENT
UID:69e759c71ec04
DTSTART:20260423T170000Z
SEQUENCE:0
TRANSP:OPAQUE
DTEND:20260423T190000Z
URL:http://test.reiseregion-flaeming.de/veranstaltung/dahme-seenland/orgelk
 onzert-in-der-dorfkirche-schoenefeld
LOCATION:Dorfkirche Schönefeld\, Kirchstraße 2\, 12529 Schönefeld
X-APPLE-STRUCTURED-LOCATION;VALUE=URI;X-ADDRESS="Dorfkirche Schönefeld, Ki
 rchstraße 2, 12529 Schönefeld";X-APPLE-RADIUS=49;X-TITLE=Dorfkirche Sch
 önefeld:geo:13.505527,52.386985
GEO:13.505527;52.386985
SUMMARY:Orgelkonzert in der Dorfkirche Schönefeld
CLASS:PUBLIC
DESCRIPTION:Orgelwerke aus Barock\, Klassik und Romantik\n\nVortragsabend i
 m Rahmen der künstlerischen Ausbildung  \n  \nWir freuen uns sehr über d
 en erneuten Besuch der Orgelklasse von Prof. Henry Fairs. Schon im Novembe
 r 2025 erlebten wir bereits ein außergewöhnliches Konzert dieser Meister
 klasse. Junge Leute brachten hier exzellente künstlerische Leistrungen zu
  Gehöhr. Um an der Universität der Künste Orgel studieren zu dürfen\, 
 muss zunächst die besondere Begabung duch das Bestehen einer anspruchsfol
 len Aufnahme-prüfung nachgewiesen werden. In ihrer weiteren Ausbildung st
 ellen sie sich auch immer nationalen und internationalen Wettbewerben. In 
 der Regel wird das Studium dann mit dem sogenannten Konzertexamen. Es wird
  sich also sehr lohnen\, dieses besondere Konzert zu besuchen.\n\nKontakt:
 \n\nEv. Kirchengemeinden Schönefeld und Großziethen\nAlt Großziethen 40
 \n12529 Schönefeld OT Großziethen\nTelefon: +49 3379 449271\nEmail: buer
 o@kirche-schoenefeld-grossziethen.de\nWebseite: https://www.kirche-schoene
 feld-grossziethen.de/?p=5000\n\nWeitere Informationen zur Veranstaltung: h
 ttp://test.reiseregion-flaeming.de/veranstaltung/dahme-seenland/orgelkonze
 rt-in-der-dorfkirche-schoenefeld
CATEGORIES:Klassisches Konzert / Oper
DTSTAMP:20260421T110439Z
END:VEVENT
END:VCALENDAR