BEGIN:VCALENDAR
VERSION:2.0
PRODID:test.reiseregion-flaeming.de
BEGIN:VEVENT
UID:69e7bd310125e
DTSTART:20260510T150000Z
SEQUENCE:0
TRANSP:OPAQUE
DTEND:20260510T160000Z
URL:http://test.reiseregion-flaeming.de/veranstaltung/dahme-seenland/musiks
 ommer-in-dorfkirchen-3
LOCATION:Dorfkirche Deutsch Wusterhausen\, Am Denkmalplatz 1\, 15711 Deutsc
 h Wusterhausen
X-APPLE-STRUCTURED-LOCATION;VALUE=URI;X-ADDRESS="Dorfkirche Deutsch Wusterh
 ausen, Am Denkmalplatz 1, 15711 Deutsch Wusterhausen";X-APPLE-RADIUS=49;X-
 TITLE=Dorfkirche Deutsch Wusterhausen:geo:13.586491,52.295237
GEO:13.586491;52.295237
SUMMARY:Musiksommer in Dorfkirchen
CLASS:PUBLIC
DESCRIPTION:\"A fine Romanze\"\n\nAm Muttertag erklingt eine musikalische R
 eise der Liebe durch die Epochen der Zeit: Liebesleid und Liebesfreud\, Se
 hnsüchtiges bis Leichtfüßiges\, alles findet sich zu allen Zeiten in de
 r Musik wieder.\n\nMitwirkende: Dorethe Maria Sandmann (Gesang)\, Matthias
  Gerhard Müller (Gitarre) und Alexander Koderisch (Violoncello)\n\nKontak
 t:\n\nEvangelische Kirchengemeinde Königs Wusterhausen\nSchlossplatz 5\n1
 5711 Königs Wusterhausen\nTelefon: +49 3375 258620\nEmail: scheetz@evange
 lische-kirche-kw.de\nWebseite: https://www.evangelische-kirche-kw.de/\n\nW
 eitere Informationen zur Veranstaltung: http://test.reiseregion-flaeming.d
 e/veranstaltung/dahme-seenland/musiksommer-in-dorfkirchen-3
CATEGORIES:Klassisches Konzert / Oper
DTSTAMP:20260421T180849Z
END:VEVENT
END:VCALENDAR