BEGIN:VCALENDAR
VERSION:2.0
PRODID:test.reiseregion-flaeming.de
BEGIN:VEVENT
UID:69e7bde2be331
DTSTART:20260712T150000Z
SEQUENCE:0
TRANSP:OPAQUE
DTEND:20260712T160000Z
URL:http://test.reiseregion-flaeming.de/veranstaltung/dahme-seenland/musiks
 ommer-in-dorfkirchen-2
LOCATION:Dorfkirche Schenkendorf\, Freiherr-von-Loeben-Straße 12\, 15749 S
 chenkendorf
X-APPLE-STRUCTURED-LOCATION;VALUE=URI;X-ADDRESS="Dorfkirche Schenkendorf, F
 reiherr-von-Loeben-Straße 12, 15749 Schenkendorf";X-APPLE-RADIUS=49;X-TIT
 LE=Dorfkirche Schenkendorf:geo:13.593759,52.279155
GEO:13.593759;52.279155
SUMMARY:Musiksommer in Dorfkirchen
CLASS:PUBLIC
DESCRIPTION:\"Far away\"\n\nAlte Musik zwischen Barock und Irish Folk\n\nEi
 ne musikalische Reise quer durch das Europa des 17./18. Jahrhunderts von I
 talien über Deutschland\, den Niederlanden und England nach Irland und Sc
 hottland. Irische Tin Whistle Tunes und Traditionals\, frühbarocke Tänze
  sowie hochbarocke Grounds. Musik von Benedetto Marcello\, Andrea Falconie
 ri\, Johann Schop\, Tourlough O' Carolan u.a.\n\nMitwirkende: Katharina Gl
 ös (Blockflöten)\, Charlie Zhang (Theorbe/Barockgitarre) und Alexander K
 oderisch (Violoncello)\n\nKontakt:\n\nRegionalküsterei Gemeindebüro\nSch
 lossplatz 5\n15711 Königs Wusterhausen\nTelefon: +49 3375 258620\nEmail: 
 verwaltung@evangelische-kirche-kw.de\nWebseite: https://www.evangelische-k
 irche-kw.de\n\nWeitere Informationen zur Veranstaltung: http://test.reiser
 egion-flaeming.de/veranstaltung/dahme-seenland/musiksommer-in-dorfkirchen-
 2
CATEGORIES:Klassisches Konzert / Oper
DTSTAMP:20260421T181146Z
END:VEVENT
END:VCALENDAR