BEGIN:VCALENDAR
VERSION:2.0
PRODID:test.reiseregion-flaeming.de
BEGIN:VEVENT
UID:69e77cb7d2eab
DTSTART:20260828T173000Z
SEQUENCE:0
TRANSP:OPAQUE
DTEND:20260828T183000Z
URL:http://test.reiseregion-flaeming.de/veranstaltung/dahme-seenland/intern
 ationaler-orgelsommer-2026
LOCATION:Kreuzkirche Königs Wusterhausen\, Kirchplatz 2\, 15711 Königs Wu
 sterhausen
X-APPLE-STRUCTURED-LOCATION;VALUE=URI;X-ADDRESS="Kreuzkirche Königs Wuster
 hausen, Kirchplatz 2, 15711 Königs Wusterhausen";X-APPLE-RADIUS=49;X-TITL
 E=Kreuzkirche Königs Wusterhausen:geo:13.626209,52.300002
GEO:13.626209;52.300002
SUMMARY:Internationaler Orgelsommer 2026
CLASS:PUBLIC
DESCRIPTION:Orgel-Trialog\n\nDREI Organistinnen musizieren auf DREI Orgeln\
 n\nWerke von Carlo Goeury\, Pietro Valle\, Mariano Müller\, Johann Georg 
 Albrechtsberger\,  Johann Gottlieb Höppner\, Johann Sebastian Bach u.a. \
 n\nOrganistinnen des Kirchenkreises Berlin-Neukölln: KMD Anke Meyer\, Ari
 sa Ishibashi und Christiane Scheetz\n\nZum Ausklang des Abends wird zu kul
 inarischen Köstlichkeiten\, Wein und alkoholfreien Getränken eingeladen.
 \n\nKontakt:\n\nRegionalküsterei Gemeindebüro\nSchlossplatz 5\n15711 Kö
 nigs Wusterhausen\nTelefon: +49 3375 258620\nEmail: verwaltung@evangelisch
 e-kirche-kw.de\nWebseite: https://www.evangelische-kirche-kw.de\n\nWeitere
  Informationen zur Veranstaltung: http://test.reiseregion-flaeming.de/vera
 nstaltung/dahme-seenland/internationaler-orgelsommer-2026
CATEGORIES:Klassisches Konzert / Oper
DTSTAMP:20260421T133343Z
END:VEVENT
END:VCALENDAR