BEGIN:VCALENDAR
VERSION:2.0
PRODID:test.reiseregion-flaeming.de
BEGIN:VEVENT
UID:69e77ccda72e8
DTSTART:20260912T173000Z
SEQUENCE:0
TRANSP:OPAQUE
DTEND:20260912T184500Z
URL:http://test.reiseregion-flaeming.de/veranstaltung/dahme-seenland/von-br
 andenburg-in-die-neue-welt
LOCATION:Kreuzkirche Königs Wusterhausen\, Kirchplatz 2\, 15711 Königs Wu
 sterhausen
X-APPLE-STRUCTURED-LOCATION;VALUE=URI;X-ADDRESS="Kreuzkirche Königs Wuster
 hausen, Kirchplatz 2, 15711 Königs Wusterhausen";X-APPLE-RADIUS=49;X-TITL
 E=Kreuzkirche Königs Wusterhausen:geo:13.626209,52.300002
GEO:13.626209;52.300002
SUMMARY:Von Brandenburg in die neue Welt
CLASS:PUBLIC
DESCRIPTION:Mit Werken von Johann Sebastian Bach\, Georg Friedrich Händel\
 , John Williams\, Leonard Bernstein\, Stefan Mey\, Jakob Krautmacher u.a.\
 n\nMitwirkende: Landesjugendposaunenchor der EKBO\, Leitung: Landesposaune
 nwart Michael Knake\n\nKontakt:\n\nRegionalküsterei Gemeindebüro\nSchlos
 splatz 5\n15711 Königs Wusterhausen\nTelefon: +49 3375 258620\nEmail: ver
 waltung@evangelische-kirche-kw.de\nWebseite: https://www.evangelische-kirc
 he-kw.de\n\nWeitere Informationen zur Veranstaltung: http://test.reiseregi
 on-flaeming.de/veranstaltung/dahme-seenland/von-brandenburg-in-die-neue-we
 lt
CATEGORIES:Klassisches Konzert / Oper
DTSTAMP:20260421T133405Z
END:VEVENT
END:VCALENDAR