BEGIN:VCALENDAR
VERSION:2.0
PRODID:test.reiseregion-flaeming.de
BEGIN:VEVENT
UID:69e792a99e3b2
DTSTART:20261212T150000Z
SEQUENCE:0
TRANSP:OPAQUE
DTEND:20261212T160000Z
URL:http://test.reiseregion-flaeming.de/veranstaltung/dahme-seenland/advent
 s-und-weihnachtsmusik
LOCATION:Kreuzkirche Königs Wusterhausen\, Kirchplatz 2\, 15711 Königs Wu
 sterhausen
X-APPLE-STRUCTURED-LOCATION;VALUE=URI;X-ADDRESS="Kreuzkirche Königs Wuster
 hausen, Kirchplatz 2, 15711 Königs Wusterhausen";X-APPLE-RADIUS=49;X-TITL
 E=Kreuzkirche Königs Wusterhausen:geo:13.626209,52.300002
GEO:13.626209;52.300002
SUMMARY:Advents-und Weihnachtsmusik
CLASS:PUBLIC
DESCRIPTION:\"Fröhlich soll mein Herze springen...\"\n\nBläsermusik\, Cho
 rmusik\, Instrumentalmusik und Orgelmusik verschiedener Stile und Jahrhund
 erte zur Advents-und Weihnachtszeit\n\nMitwirkende: Posaunenchor\, Kantore
 i und Collegium Cantorum Königs Wusterhausen\, Leitung: Karsten Kalz und 
 Christiane Scheetz\n\nKontakt:\n\nRegionalküsterei Gemeindebüro\nSchloss
 platz 5\n15711 Königs Wusterhausen\nTelefon: +49 3375 258620\nEmail: verw
 altung@evangelische-kirche-kw.de\nWebseite: https://www.evangelische-kirch
 e-kw.de\n\nWeitere Informationen zur Veranstaltung: http://test.reiseregio
 n-flaeming.de/veranstaltung/dahme-seenland/advents-und-weihnachtsmusik
CATEGORIES:Klassisches Konzert / Oper
DTSTAMP:20260421T150721Z
END:VEVENT
BEGIN:VEVENT
UID:69e792a9a5bfa
DTSTART:20261212T170000Z
SEQUENCE:0
TRANSP:OPAQUE
DTEND:20261212T180000Z
URL:http://test.reiseregion-flaeming.de/veranstaltung/dahme-seenland/advent
 s-und-weihnachtsmusik
LOCATION:Kreuzkirche Königs Wusterhausen\, Kirchplatz 2\, 15711 Königs Wu
 sterhausen
X-APPLE-STRUCTURED-LOCATION;VALUE=URI;X-ADDRESS="Kreuzkirche Königs Wuster
 hausen, Kirchplatz 2, 15711 Königs Wusterhausen";X-APPLE-RADIUS=49;X-TITL
 E=Kreuzkirche Königs Wusterhausen:geo:13.626209,52.300002
GEO:13.626209;52.300002
SUMMARY:Advents-und Weihnachtsmusik
CLASS:PUBLIC
DESCRIPTION:\"Fröhlich soll mein Herze springen...\"\n\nBläsermusik\, Cho
 rmusik\, Instrumentalmusik und Orgelmusik verschiedener Stile und Jahrhund
 erte zur Advents-und Weihnachtszeit\n\nMitwirkende: Posaunenchor\, Kantore
 i und Collegium Cantorum Königs Wusterhausen\, Leitung: Karsten Kalz und 
 Christiane Scheetz\n\nKontakt:\n\nRegionalküsterei Gemeindebüro\nSchloss
 platz 5\n15711 Königs Wusterhausen\nTelefon: +49 3375 258620\nEmail: verw
 altung@evangelische-kirche-kw.de\nWebseite: https://www.evangelische-kirch
 e-kw.de\n\nWeitere Informationen zur Veranstaltung: http://test.reiseregio
 n-flaeming.de/veranstaltung/dahme-seenland/advents-und-weihnachtsmusik
CATEGORIES:Klassisches Konzert / Oper
DTSTAMP:20260421T150721Z
END:VEVENT
END:VCALENDAR