BEGIN:VCALENDAR
VERSION:2.0
PRODID:test.reiseregion-flaeming.de
BEGIN:VEVENT
UID:69e79e4a4fa61
DTSTART:20261213T140000Z
SEQUENCE:0
TRANSP:OPAQUE
DTEND:20261213T150000Z
URL:http://test.reiseregion-flaeming.de/veranstaltung/dahme-seenland/orgelm
 usik-bei-kerzenschein
LOCATION:Kreuzkirche Königs Wusterhausen\, Kirchplatz 2\, 15711 Königs Wu
 sterhausen
X-APPLE-STRUCTURED-LOCATION;VALUE=URI;X-ADDRESS="Kreuzkirche Königs Wuster
 hausen, Kirchplatz 2, 15711 Königs Wusterhausen";X-APPLE-RADIUS=49;X-TITL
 E=Kreuzkirche Königs Wusterhausen:geo:13.626209,52.300002
GEO:13.626209;52.300002
SUMMARY:Orgelmusik bei Kerzenschein
CLASS:PUBLIC
DESCRIPTION:\"Kommt singt und klingt\, kommt pfeift und trompt...\"\n\nVari
 ationen über Weihnachtslieder\, Pastoralen und festliche Orgelmusik von e
 uropäischen Meistern aus Barock und Klassik\n\nOrgel: Christiane Scheetz\
 n\nKontakt:\n\nRegionalküsterei Gemeindebüro\nSchlossplatz 5\n15711 Kön
 igs Wusterhausen\nTelefon: +49 3375 258620\nEmail: verwaltung@evangelische
 -kirche-kw.de\nWebseite: https://www.evangelische-kirche-kw.de\n\nWeitere 
 Informationen zur Veranstaltung: http://test.reiseregion-flaeming.de/veran
 staltung/dahme-seenland/orgelmusik-bei-kerzenschein
CATEGORIES:Klassisches Konzert / Oper
DTSTAMP:20260421T155658Z
END:VEVENT
END:VCALENDAR