BEGIN:VCALENDAR
VERSION:2.0
PRODID:test.reiseregion-flaeming.de
BEGIN:VEVENT
UID:69e772726dec6
DTSTART:20270101T130000Z
SEQUENCE:0
TRANSP:OPAQUE
DTEND:20270101T140000Z
URL:http://test.reiseregion-flaeming.de/veranstaltung/dahme-seenland/weihna
 chtsoratorium-kantate-nr-iv-bwv-248
LOCATION:Kreuzkirche Königs Wusterhausen\, Kirchplatz 2\, 15711 Königs Wu
 sterhausen
X-APPLE-STRUCTURED-LOCATION;VALUE=URI;X-ADDRESS="Kreuzkirche Königs Wuster
 hausen, Kirchplatz 2, 15711 Königs Wusterhausen";X-APPLE-RADIUS=49;X-TITL
 E=Kreuzkirche Königs Wusterhausen:geo:13.626209,52.300002
GEO:13.626209;52.300002
SUMMARY:Weihnachtsoratorium Kantate Nr. IV BWV 248
CLASS:PUBLIC
DESCRIPTION:Kantatengottesdienst zum Neujahrstag\n\nMitwirkende: Georgia Tr
 iyfona (Sopran)\, Shimon Yoshida (Tenor)\, Sebastian Noack (Bass)\, Orches
 ter Märkisch Barock\, Kantorei Königs Wusterhausen\, Leitung: Christiane
  Scheetz\n\nKontakt:\n\nRegionalküsterei Gemeindebüro\nSchlossplatz 5\n1
 5711 Königs Wusterhausen\nTelefon: +49 3375 258620\nEmail: verwaltung@eva
 ngelische-kirche-kw.de\nWebseite: https://www.evangelische-kirche-kw.de\n\
 nWeitere Informationen zur Veranstaltung: http://test.reiseregion-flaeming
 .de/veranstaltung/dahme-seenland/weihnachtsoratorium-kantate-nr-iv-bwv-248
CATEGORIES:Klassisches Konzert / Oper
DTSTAMP:20260421T124955Z
END:VEVENT
END:VCALENDAR