BEGIN:VCALENDAR
VERSION:2.0
PRODID:test.reiseregion-flaeming.de
BEGIN:VEVENT
UID:69e76b697761b
DTSTART:20270116T160000Z
SEQUENCE:0
TRANSP:OPAQUE
DTEND:20270116T173000Z
URL:http://test.reiseregion-flaeming.de/veranstaltung/dahme-seenland/neujah
 rskonzert
LOCATION:Kreuzkirche Königs Wusterhausen\, Kirchplatz 2\, 15711 Königs Wu
 sterhausen
X-APPLE-STRUCTURED-LOCATION;VALUE=URI;X-ADDRESS="Kreuzkirche Königs Wuster
 hausen, Kirchplatz 2, 15711 Königs Wusterhausen";X-APPLE-RADIUS=49;X-TITL
 E=Kreuzkirche Königs Wusterhausen:geo:13.626209,52.300002
GEO:13.626209;52.300002
SUMMARY:Neujahrskonzert
CLASS:PUBLIC
DESCRIPTION:\"All You need Is Love\"\n\nMitwirkende: Matthias Wacker and Fr
 iends mit dem Posaunenchor Königs Wusterhausen\, Leitung: Karsten Kalz\n\
 nKontakt:\n\nRegionalküsterei Gemeindebüro\nSchlossplatz 5\n15711 König
 s Wusterhausen\nTelefon: +49 3375 258620\nEmail: verwaltung@evangelische-k
 irche-kw.de\nWebseite: https://www.evangelische-kirche-kw.de\n\nWeitere In
 formationen zur Veranstaltung: http://test.reiseregion-flaeming.de/veranst
 altung/dahme-seenland/neujahrskonzert
CATEGORIES:Rock / Pop / Jazz,Klassisches Konzert / Oper
DTSTAMP:20260421T121953Z
END:VEVENT
END:VCALENDAR