BEGIN:VCALENDAR
VERSION:2.0
PRODID:test.reiseregion-flaeming.de
BEGIN:VEVENT
UID:69e776d00cab7
DTSTART:20260422T120000Z
SEQUENCE:0
TRANSP:OPAQUE
DTEND:20260422T160000Z
URL:http://test.reiseregion-flaeming.de/veranstaltung/ruppiner-seenland/kun
 st-unterwegs-workshop-mit-rupprecht-matthies
LOCATION:Bauspielplatz Neuruppin\, Hermann-Matern-Straße 68\, 16816 Neurup
 pin
X-APPLE-STRUCTURED-LOCATION;VALUE=URI;X-ADDRESS="Bauspielplatz Neuruppin, H
 ermann-Matern-Straße 68, 16816 Neuruppin";X-APPLE-RADIUS=49;X-TITLE=Bausp
 ielplatz Neuruppin:geo:12.810680,52.929071
GEO:12.810680;52.929071
SUMMARY:Kunst unterwegs - Workshop mit Rupprecht Matthies
CLASS:PUBLIC
DESCRIPTION:Das Projekt „Kunst unterwegs“ will in diesem Jahr die Kunst
  im öffentlichen Raum in Neuruppin wieder ins Bewusstsein rücken\, will 
 neugierig darauf machen\, was man in  Neuruppin entdecken kann\, welche Ge
 schichten es dazu gibt und was die Kunst in uns auslöst. \n\nIm Mittwoch\
 , 22. April\, kommt der Künstler Rupprecht Matthies aus Hamburg wieder na
 ch Neuruppin. Er hat in den vergangenen Jahren viele Kunstwerke im Neurupp
 iner Neubaugebiet geschaffen - einen Teil davon mit den Anwohnern zusammen
 . Im Rahmen des Projektes „Kunst unterwegs“ lädt er um 14 Uhr zu eine
 m Kunstworkshop und um 16 Uhr zu einem Kunstspaziergang durchs Neubaugebie
 t ein.  \n\n**„Neuauflage“** nennt er seinen anderthalbstündigen **Wo
 rkshop** \, der am Mittwoch **um 14 Uhr** auf dem **Bauspielplatz** hinter
  der Fontaneschule beginnt. Dabei fertigt er mit den Besuchern keramische 
 Motivfliesen aus Ton\, die später getrocknet und gebrannt werden. Die sch
 on vorbereiteten\, feuchten Fliesen zum Selbstgestalten bringt er mit.\n\n
 **Um 16 Uhr** lädt Rupprecht Matthies zum **Spaziergang „Kunst unterweg
 s“** durch das **Neuruppiner Neubaugebiet** ein. **Treffpunkt** ist das 
 **Mehrgenerationenhaus Krümelkiste** in der Otto-Grotewohl-Straße 1A. Ge
 meinsam machen Sie sich auf den Weg\, Skulpturen\, Wandbilder und Reliefs 
 zu entdecken\, die die Wohngebiete entlang der Heinrich-Rau-Straße belebe
 n.\n\nKontakt:\n\nFontane-Büro & Veranstaltungsmanagement e.V.\nPräsiden
 tenstraße 47\n16816 Neuruppin\nTelefon: +49 03391-6598198\nEmail: ket.bar
 tsch@t-online.de\n\nWeitere Informationen zur Veranstaltung: http://test.r
 eiseregion-flaeming.de/veranstaltung/ruppiner-seenland/kunst-unterwegs-wor
 kshop-mit-rupprecht-matthies
CATEGORIES:Workshop / Seminar,Führung / Besichtigung
DTSTAMP:20260421T130832Z
END:VEVENT
END:VCALENDAR