BEGIN:VCALENDAR
VERSION:2.0
PRODID:test.reiseregion-flaeming.de
BEGIN:VEVENT
UID:69e6197d72655
DTSTART:20260520T150000Z
SEQUENCE:0
TRANSP:OPAQUE
DTEND:20260520T170000Z
URL:http://test.reiseregion-flaeming.de/veranstaltung/dahme-seenland/alles-
 hat-seinen-biologischen-sinn-die-etwas-andere-kraeuter-und-naturwanderung-
 2
LOCATION:Kräuter- und Naturhof\, An der Dabernack 2\, 15754 Heidesee
X-APPLE-STRUCTURED-LOCATION;VALUE=URI;X-ADDRESS="Kräuter- und Naturhof, An
  der Dabernack 2, 15754 Heidesee";X-APPLE-RADIUS=49;X-TITLE=Kräuter- und 
 Naturhof:geo:13.808927,52.243474
GEO:13.808927;52.243474
SUMMARY:Alles hat seinen bioLOgischen Sinn - die etwas andere Kräuter- und
  Naturwanderung
CLASS:PUBLIC
DESCRIPTION:Krankheiten & Symptome haben ihre Ursachen und ihren Ursprung\,
  ob durch Gene oder durch das alltägliche Leben …  \n  \nKräuter und B
 äume stehen uns immer zur Seite und begleiten uns auf unterschiedlichen W
 egen in einer Teemischung\, als Essenz\, als Pflegebalsam\, in der Küche 
 oder als Botschafter *in der Natur.  \n  \nDie Termine für unsere neue mo
 natliche Themenreihe finden Sie auch auf unserer homepage unter: www. krä
 uterundnaturhof.de/Veranstaltungen\n\nMittwoch\, 20. Mai 2026 - 17.00 bis 
 19.00 Uhr\n\n„Warum wir so sind\, wie wir sind“\n\nGene\, unser Umfeld
 \, Erlerntes\, alles prägt uns – leicht und verständlich erklärt bei 
 einer Tour durch die Natur. Pflanzen und Bäume zeigen uns\, wie es geht u
 nd wie sie uns begleiten auf physischer und psychischer Ebene. Botschaften
  von Pflanzen deuten und verstehen.\n\nHinweis/ Empfehlung - dem Wetter an
 gepasste Kleidung ist anzuziehen (Outdoorveranstaltung) und Notizmateriali
 en wie ein Block und ein Stift sind mitzubringen sowie ein Getränk für d
 ie Zeit der Wanderung.\n\nKontakt:\n\nKräuter- und Naturhof\nAn der Daber
 nack 2\n15754 Heidesee\nTelefon: +49 172 9915754\nEmail: kraeuterundnaturh
 of@gmail.com\n\nWeitere Informationen zur Veranstaltung: http://test.reise
 region-flaeming.de/veranstaltung/dahme-seenland/alles-hat-seinen-biologisc
 hen-sinn-die-etwas-andere-kraeuter-und-naturwanderung-2
CATEGORIES:Wellness / Gesundheit,Führung / Besichtigung,Sport
DTSTAMP:20260420T121805Z
END:VEVENT
END:VCALENDAR