BEGIN:VCALENDAR
VERSION:2.0
PRODID:test.reiseregion-flaeming.de
BEGIN:VEVENT
UID:69e7b83b756e8
DTSTART:20260528T130000Z
SEQUENCE:0
TRANSP:OPAQUE
DTEND:20260528T151500Z
URL:http://test.reiseregion-flaeming.de/veranstaltung/seenland-oder-spree/s
 trassen-erzaehlen-geschichte-n-paul-feldner-strasse-walter-korsing-strasse
 -fischerstrasse
LOCATION:VHS Volkshochschule Frankfurt (Oder)\, Gartenstr. 1\, 15230 Frankf
 urt (Oder)
X-APPLE-STRUCTURED-LOCATION;VALUE=URI;X-ADDRESS="VHS Volkshochschule Frankf
 urt (Oder), Gartenstr. 1, 15230 Frankfurt (Oder)";X-APPLE-RADIUS=49;X-TITL
 E=VHS Volkshochschule Frankfurt (Oder):geo:14.554021,52.340085
GEO:14.554021;52.340085
SUMMARY:Straßen erzählen Geschichte(n): Paul-Feldner-Straße\, Walter-Kor
 sing-Straße\, Fischerstraße
CLASS:PUBLIC
DESCRIPTION:Besondere Orte üben eine faszinierende Anziehung auf uns Mensc
 hen aus. Die \"magischen\" Häuser erzählen ihre eigenen Geschichten. Sie
  erhalten historische Informationen über den jeweiligen Ort.\n\nPaul-Feld
 ner-Straße\, Walter-Korsing-Straße\, Fischerstraße  \nStark veränderte
  Wohn- und Mischbebauung  \nSchwerpunkt: Fischerstraße - ein Wandel zur t
 ouristischen Vorzeigestraße\n\nTreffpunkt: VHS\, Eingang\n\nKontakt:\n\nV
 HS Volkshochschule Frankfurt (Oder)\nGartenstr. 1\n15230 Frankfurt (Oder)\
 nTelefon: +49 335 542025\nEmail: info@vhs-ffo.de\nWebseite: https://www.vh
 s-frankfurt-oder.de/\n\nWeitere Informationen zur Veranstaltung: http://te
 st.reiseregion-flaeming.de/veranstaltung/seenland-oder-spree/strassen-erza
 ehlen-geschichte-n-paul-feldner-strasse-walter-korsing-strasse-fischerstra
 sse
CATEGORIES:Führung / Besichtigung
DTSTAMP:20260421T174739Z
END:VEVENT
END:VCALENDAR