BEGIN:VCALENDAR
VERSION:2.0
PRODID:test.reiseregion-flaeming.de
BEGIN:VEVENT
UID:69e771639e0b9
DTSTART:20260530T060000Z
SEQUENCE:0
TRANSP:OPAQUE
DTEND:20260530T180000Z
URL:http://test.reiseregion-flaeming.de/veranstaltung/lausitzer-seenland/15
 -senftenberger-see-pokal
LOCATION:Seesportclub Gymnasium Senftenberg\, Fischreiherstraße 14\, 01968
  Senftenberg
X-APPLE-STRUCTURED-LOCATION;VALUE=URI;X-ADDRESS="Seesportclub Gymnasium Sen
 ftenberg, Fischreiherstraße 14, 01968 Senftenberg";X-APPLE-RADIUS=49;X-TI
 TLE=Seesportclub Gymnasium Senftenberg:geo:13.989136,51.509156
GEO:13.989136;51.509156
SUMMARY:15. Senftenberger See-Pokal
CLASS:PUBLIC
DESCRIPTION:Der Senftenberger See wird auch 2026 wieder zum Treffpunkt für
  den Seesport. Der Wettkampf um den See-Pokal bringt Sportlerinnen und Spo
 rtler aus ganz Deutschland zusammen\, die sich in verschiedenen Diszipline
 n miteinander messen. Die Wettkampfstrecke zieht sich entlang des Ufers vo
 m Spielplatz Bergmann über den Seestrand Senftenberg bis zum Dr. Otto Rin
 dt Stein am Stadthafen. Damit verbindet die Veranstaltung sportliche Herau
 sforderung mit der besonderen Atmosphäre des Sees.\n\nIm vergangenen Jahr
  kamen 128 Teilnehmende aus unter anderem Greifswald\, Erfurt\, Gotha\, Po
 tsdam\, Forst\, Knappenrode und Leipzig nach Senftenberg. Gemeinsam mit de
 m Seesportclub am Senftenberger Gymnasium e.V. traten sie in den Disziplin
 en Knoten\, Wurfleinewerfen\, Laufen und Rudern an und lieferten sich fair
 e und spannende Wettkämpfe.\n\nAuch 2026 stehen diese Disziplinen wieder 
 im Mittelpunkt. Neben dem sportlichen Vergleich geht es vor allem um das g
 emeinsame Erlebnis und den Austausch zwischen den Vereinen. Die Senftenber
 ger Gastgeber sorgen erneut für gut vorbereitete Wettkampfstätten und ei
 nen reibungslosen Ablauf.\n\nKontakt:\n\nSeesportclub Gymnasium Senftenber
 g e. V.\nOlaf Lüderitz\n\n \nTelefon: +49 3573 61014\nEmail: luelo@t-onli
 ne.de\n\nWeitere Informationen zur Veranstaltung: http://test.reiseregion-
 flaeming.de/veranstaltung/lausitzer-seenland/15-senftenberger-see-pokal
CATEGORIES:Sport
DTSTAMP:20260421T124523Z
END:VEVENT
END:VCALENDAR