BEGIN:VCALENDAR
VERSION:2.0
PRODID:test.reiseregion-flaeming.de
BEGIN:VEVENT
UID:69e6080c6a809
DTSTART:20260425T170000Z
SEQUENCE:0
TRANSP:OPAQUE
DTEND:20260425T180000Z
URL:http://test.reiseregion-flaeming.de/veranstaltung/ruppiner-seenland/jer
 usalem-strich-al-quds-einer-vertrackten-situation-auf-der-spur
LOCATION:St.-Nicolai-Kirche\, Havelstraße 28\, 16515 Oranienburg
X-APPLE-STRUCTURED-LOCATION;VALUE=URI;X-ADDRESS="St.-Nicolai-Kirche, Havels
 traße 28, 16515 Oranienburg";X-APPLE-RADIUS=49;X-TITLE=St.-Nicolai-Kirche
 :geo:13.234162,52.751602
GEO:13.234162;52.751602
SUMMARY:Jerusalem/Al Quds - einer vertrackten Situation auf der Spur
CLASS:PUBLIC
DESCRIPTION:Vor dem Hintergrund der politisch-religiösen Spannungen in Jer
 usalem lädt das der Escala e.V. zum Theaterstück „Jerusalem/Al Quds“
  von Ismaël Saidi ein. Es erzählt die Geschichte eines Hauses\, das zum 
 Symbol für Erinnerung und Zugehörigkeit wird und aus sehr persönlicher 
 Sicht\, sowohl die jüdische als auch die muslimische Perspektive in Ost-J
 erusalem beschreibt. \n\nEiner jungen Kanadierin jüdischen Glaubens wird 
 durch ein Gerichtsurteil das Haus ihrer Großmutter in Ost-Jerusalem zuges
 prochen. Doch seit Jahrzehnten lebt darin eine muslimische Familie. Der Ko
 nflikt zwischen Delphine (Sharon Kotkovsky ) und Shahid (Jalal Mando)\, di
 e sich am Tag der Hausübergabe zum ersten Mal begegnen\, ist unausweichli
 ch. Und unversehens mischen sich auch die Geister der Vergangenheit ein. D
 as Theaterstück beschreibt aus sehr persönlicher Sicht sowohl die jüdis
 che als auch die muslimische Pers-pektive in Ost-Jerusalem.\n\nKontakt:\n\
 nSabine Wiedemann\n\n \nTelefon: +49 015223634057\nEmail: escala-info@web.
 de\n\nWeitere Informationen zur Veranstaltung: http://test.reiseregion-fla
 eming.de/veranstaltung/ruppiner-seenland/jerusalem-strich-al-quds-einer-ve
 rtrackten-situation-auf-der-spur
CATEGORIES:Theater / Tanz / Kabarett
DTSTAMP:20260420T110340Z
END:VEVENT
END:VCALENDAR