BEGIN:VCALENDAR
VERSION:2.0
PRODID:test.reiseregion-flaeming.de
BEGIN:VEVENT
UID:69e76491b7d9a
DTSTART:20260912T080000Z
SEQUENCE:0
TRANSP:OPAQUE
DTEND:20260912T110000Z
URL:http://test.reiseregion-flaeming.de/veranstaltung/seenland-oder-spree/r
 adrennen-um-strausberg-mit-dem-1-rsc-im-ksc-srb-ev
LOCATION:Strausberg\, 15344 Strausberg
X-APPLE-STRUCTURED-LOCATION;VALUE=URI;X-ADDRESS="Strausberg, 15344 Strausbe
 rg";X-APPLE-RADIUS=49;X-TITLE=Strausberg:geo:13.908761,52.560099
GEO:13.908761;52.560099
SUMMARY:Radrennen um Strausberg mit dem 1. RSC im KSC SRB e.V.
CLASS:PUBLIC
DESCRIPTION:Gewerbegebiet Strausberg\n\nDas Event findet ganztägig statt.\
 n\nKontakt:\n\nThomas Deuse\nHegermühlenstraße 58\n15344 Strausberg\nTel
 efon: +49 01734360286\nEmail: radfahren@stadt-strausberg.de\n\nWeitere Inf
 ormationen zur Veranstaltung: http://test.reiseregion-flaeming.de/veransta
 ltung/seenland-oder-spree/radrennen-um-strausberg-mit-dem-1-rsc-im-ksc-srb
 -ev
CATEGORIES:Sport
DTSTAMP:20260421T115042Z
END:VEVENT
BEGIN:VEVENT
UID:69e764925549c
DTSTART:20260913T080000Z
SEQUENCE:0
TRANSP:OPAQUE
DTEND:20260913T110000Z
URL:http://test.reiseregion-flaeming.de/veranstaltung/seenland-oder-spree/r
 adrennen-um-strausberg-mit-dem-1-rsc-im-ksc-srb-ev
LOCATION:Strausberg\, 15344 Strausberg
X-APPLE-STRUCTURED-LOCATION;VALUE=URI;X-ADDRESS="Strausberg, 15344 Strausbe
 rg";X-APPLE-RADIUS=49;X-TITLE=Strausberg:geo:13.908761,52.560099
GEO:13.908761;52.560099
SUMMARY:Radrennen um Strausberg mit dem 1. RSC im KSC SRB e.V.
CLASS:PUBLIC
DESCRIPTION:Gewerbegebiet Strausberg\n\nDas Event findet ganztägig statt.\
 n\nKontakt:\n\nThomas Deuse\nHegermühlenstraße 58\n15344 Strausberg\nTel
 efon: +49 01734360286\nEmail: radfahren@stadt-strausberg.de\n\nWeitere Inf
 ormationen zur Veranstaltung: http://test.reiseregion-flaeming.de/veransta
 ltung/seenland-oder-spree/radrennen-um-strausberg-mit-dem-1-rsc-im-ksc-srb
 -ev
CATEGORIES:Sport
DTSTAMP:20260421T115042Z
END:VEVENT
END:VCALENDAR