BEGIN:VCALENDAR
VERSION:2.0
PRODID:test.reiseregion-flaeming.de
BEGIN:VEVENT
UID:69e7881c5f0f5
DTSTART:20260530T170000Z
SEQUENCE:0
TRANSP:OPAQUE
DTEND:20260530T190000Z
URL:http://test.reiseregion-flaeming.de/veranstaltung/lausitzer-seenland/ro
 senstolz-tribute-zusatz-konzert
LOCATION:Schloss Hornow\, Schulstraße 33\, 03130 Spremberg
X-APPLE-STRUCTURED-LOCATION;VALUE=URI;X-ADDRESS="Schloss Hornow, Schulstra
 ße 33, 03130 Spremberg";X-APPLE-RADIUS=49;X-TITLE=Schloss Hornow:geo:14.5
 09078,51.639536
GEO:14.509078;51.639536
SUMMARY:Rosenstolz-Tribute-ZUSATZ-Konzert
CLASS:PUBLIC
DESCRIPTION:Ihr habt jetzt schon Gänsehaut? Dann lasst Euch diesen besonde
 ren Abend nicht entgehen\, wenn Bea\, Alex\, Felix und Erik eine Hommage a
 n die unverwechselbare Stimme und die großen Emotionen dieser Band feiern
 . Erlebt kraftvolle Balladen\, mitreißende Pop-Hymnen und eine mitreißen
 de Live-Atmosphäre\, die die Magie von Rosenstolz wieder aufleben lässt.
  Aufgrund der großen Nachfrage und des schnellen Ausverkaufs haben wir un
 s für dieses ZUSATZKONZERT entschieden!\n\nKontakt:\n\nSchloss Hornow\nSc
 hulstraße 33\n03130 Spremberg\nTelefon: \nEmail: kulturimdorfhornow@gmx.d
 e\nWebseite: https://www.kulturverein-hornow.de/\n\nWeitere Informationen 
 zur Veranstaltung: http://test.reiseregion-flaeming.de/veranstaltung/lausi
 tzer-seenland/rosenstolz-tribute-zusatz-konzert
CATEGORIES:Rock / Pop / Jazz
DTSTAMP:20260421T142220Z
END:VEVENT
END:VCALENDAR