BEGIN:VCALENDAR
VERSION:2.0
PRODID:test.reiseregion-flaeming.de
BEGIN:VEVENT
UID:69e754237435b
DTSTART:20260514T080000Z
SEQUENCE:0
TRANSP:OPAQUE
DTEND:20260514T150000Z
URL:http://test.reiseregion-flaeming.de/veranstaltung/lausitzer-seenland/mu
 seumstag-an-himmelfahrt
LOCATION:Schloss Hornow\, Schulstraße 33\, 03130 Spremberg
X-APPLE-STRUCTURED-LOCATION;VALUE=URI;X-ADDRESS="Schloss Hornow, Schulstra
 ße 33, 03130 Spremberg";X-APPLE-RADIUS=49;X-TITLE=Schloss Hornow:geo:14.5
 09078,51.639536
GEO:14.509078;51.639536
SUMMARY:Museumstag an Himmelfahrt
CLASS:PUBLIC
DESCRIPTION:Kennen Sie schon die bewegte Geschichte des Hornower Schlosses?
  Wenn nicht\, dann nutzen Sie die Gelegenheit\, unsere Ausstellung dazu zu
  besuchen und finden Sie alles - gern auch in einer Führung - heraus! Sie
  haben unsere historische Postkartenausstellung noch nicht gesehen? Auch d
 azu haben Sie nun die Gelegenheit. Außerdem haben Sie die Möglichkeit\, 
 sich die aktuelle Ausstellung \"Zwischen Epochen\" von Sophia Bornhagen an
 zuschauen. Die Künstlerin ist freischaffende Malerin\, Plastikerin und Ku
 nsthistorikerin und zeigt im Schloss Hornow gegenständliche Ölmalerei. I
 hre figürlichen Darstellungen\, Stillleben\, landschaftlichen und archite
 ktonischen Motive nehmen dabei mittelbar Bezug auf Schloss und Park in Hor
 now sowie auf die Malerei Max Rabes. Für die Kinder gibt es eine kleine S
 chnitzeljagd zum Schloss. Auch unseren offenen Bücherschrank können Sie 
 besuchen! Der Eintritt ist frei\, der Verein freut sich über eine Spende!
  Für das leibliche Wohl gibt es Kaffee\, Kuchen/Waffeln und Stullchen.\n\
 nKontakt:\n\nSchloss Hornow\nSchulstraße 33\n03130 Spremberg\nTelefon: \n
 Email: kulturimdorfhornow@gmx.de\nWebseite: https://www.kulturverein-horno
 w.de/\n\nWeitere Informationen zur Veranstaltung: http://test.reiseregion-
 flaeming.de/veranstaltung/lausitzer-seenland/museumstag-an-himmelfahrt
CATEGORIES:Ausstellung,Führung / Besichtigung
DTSTAMP:20260421T104035Z
END:VEVENT
END:VCALENDAR