BEGIN:VCALENDAR
VERSION:2.0
PRODID:test.reiseregion-flaeming.de
BEGIN:VEVENT
UID:69e741d8e870f
DTSTART:20260610T130000Z
SEQUENCE:0
TRANSP:OPAQUE
DTEND:20260610T200000Z
URL:http://test.reiseregion-flaeming.de/veranstaltung/seenland-oder-spree/a
 sta-sommerfest
LOCATION:Große Scharrnstraße\, Große Scharrnstraße\, 15230 Frankfurt (O
 der)
X-APPLE-STRUCTURED-LOCATION;VALUE=URI;X-ADDRESS="Große Scharrnstraße, Gro
 ße Scharrnstraße, 15230 Frankfurt (Oder)";X-APPLE-RADIUS=49;X-TITLE=Gro
 ße Scharrnstraße:geo:14.553223,52.343693
GEO:14.553223;52.343693
SUMMARY:AStA Sommerfest
CLASS:PUBLIC
DESCRIPTION:Sommerfest des Allgemeinen Studierendenausschusses der Europa-U
 niversität Viadrina mit einem bunten Programm aus Sport- und Familienange
 boten\, Ständen von studentischen und städtischen Initiativen sowie Live
 musik.\n\nKontakt:\n\nAllgemeiner Studierendenausschuss der Europa-Univers
 ität Viadrina\nGroße Scharrnstraße 23a\n15230 Frankfurt (Oder)\nTelefon
 : \nEmail: asta@europa-uni.de\n\nWeitere Informationen zur Veranstaltung: 
 http://test.reiseregion-flaeming.de/veranstaltung/seenland-oder-spree/asta
 -sommerfest
CATEGORIES:Fest / Brauchtum,Chor / Folklore / Volksmusik,Sport
DTSTAMP:20260421T092232Z
END:VEVENT
END:VCALENDAR