BEGIN:VCALENDAR
VERSION:2.0
PRODID:test.reiseregion-flaeming.de
BEGIN:VEVENT
UID:69e77cbe8897a
DTSTART:20261106T180000Z
SEQUENCE:0
TRANSP:OPAQUE
DTEND:20261106T200000Z
URL:http://test.reiseregion-flaeming.de/veranstaltung/lausitzer-seenland/wu
 nderwelt-der-traeume-zauber-gala-dinner
LOCATION:Restaurant & Hotel Georgenberg\, Slamener Höhe 19\, 03130 Sprembe
 rg
X-APPLE-STRUCTURED-LOCATION;VALUE=URI;X-ADDRESS="Restaurant & Hotel Georgen
 berg, Slamener Höhe 19, 03130 Spremberg";X-APPLE-RADIUS=49;X-TITLE=Restau
 rant & Hotel Georgenberg:geo:14.393037,51.573186
GEO:14.393037;51.573186
SUMMARY:Wunderwelt der Träume - Zauber Gala Dinner
CLASS:PUBLIC
DESCRIPTION:Florian Poldrack ist mit seinen jungen Jahren ein aufstrebender
  Stern in der Zauberszene\, selbst der MDR berichtete bereits über ihn. D
 er Magier hat bereits auf renommierten Bühnen wie dem Sarrasani Trocadero
  in Dresden performt und bei großen Events wie dem Dresdner Striezelmarkt
  und Auftritten im House of Magic der Ehrlich Brothers in Oberhausen sein 
 Können unter Beweis gestellt. Poldrack kombiniert in seiner Show Zauberei
  und Mentalmagie zu einer einzigartigen Performance\, die sein Publikum ve
 rblüfft und verzaubert. Er legt großen Wert auf die Interaktion mit sein
 em Publikum und sorgt dafür\, dass seine Shows lebendig und überraschend
  bleiben. Sein junger Stil und seine charmante Präsentation schaffen eine
  ganz besondere Atmosphäre und ziehen die Zuschauer in einen magischen Ba
 nn. Mit seiner neuen Show WUNDERWELT DER TRÄUME entführt er Sie in eine 
 andere Welt - seiner eigenen TRAUMWELT\, in der Illusionen Wirklichkeit we
 rden! Er zeigt sich Ihnen von einer ganz emotionalen und zauberhaften Seit
 e. Neues Erleben - neues Staunen! Neue Showerlebnisse! Mit seiner neuen Sh
 ow ist eine Veranstaltung voller Magie für die ganze Familie! Na\, neugie
 rig geworden? Dann sichern Sie sich jetzt schnell Ihre Tickets!  Lassen Si
 e sich verzaubern\, sowohl kulinarisch auf dem Teller mit einem exklusiv f
 ür diesen Abend zusammengestelltem 3-Gänge Menü\, als auch durch hautna
 h\, magisches Entertainment!\n\nKontakt:\n\nRestaurant & Hotel Georgenberg
 \nSlamener Höhe  19\n03130 Spremberg\nTelefon: +49 3563 34250\nEmail: \nW
 ebseite: https://www.hotel-georgenberg.de/\n\nWeitere Informationen zur Ve
 ranstaltung: http://test.reiseregion-flaeming.de/veranstaltung/lausitzer-s
 eenland/wunderwelt-der-traeume-zauber-gala-dinner
CATEGORIES:Theater / Tanz / Kabarett
DTSTAMP:20260421T133350Z
END:VEVENT
END:VCALENDAR