BEGIN:VCALENDAR
VERSION:2.0
PRODID:test.reiseregion-flaeming.de
BEGIN:VEVENT
UID:69e4eb486520a
DTSTART:20260509T090000Z
SEQUENCE:0
TRANSP:OPAQUE
DTEND:20260509T140000Z
URL:http://test.reiseregion-flaeming.de/veranstaltung/spreewald/vernissage-
 spektrale-12-land-von-morgen
LOCATION:Naturwelt Lieberoser Heide GmbH\, Mühlenstr. 20\, 15868 Lieberose
X-APPLE-STRUCTURED-LOCATION;VALUE=URI;X-ADDRESS="Naturwelt Lieberoser Heide
  GmbH, Mühlenstr. 20, 15868 Lieberose";X-APPLE-RADIUS=49;X-TITLE=Naturwel
 t Lieberoser Heide GmbH:geo:14.305020,51.989164
GEO:14.305020;51.989164
SUMMARY:Vernissage „SPEKTRALE 12: LAND VON MORGEN“
CLASS:PUBLIC
DESCRIPTION:Bei der Spektrale12 geht es um mehr als nur spektakuläre Schau
 plätze: Außergewöhnliche Orte treffen hier auf ihnen nahestehende und f
 ür die Region bedeutende Themen. Die spektrale 12 widmet sich im Jahr 202
 6 dem Verhältnis Gesellschaft und Natur. Dafür setzen sich auf dem ehema
 ligen Truppenübungsplatz bei Lieberose dreizehn bildende Künstler:innen 
 mit dem landschaftlichen\, aber auch dem gesellschaftlichen Wandel auseina
 nder.\n\nDas vom militärischen Übungsbetrieb geschundene Areal\, das akt
 uell zu einer einmaligen Naturlandschaft entwickelt wird\, bietet den Kün
 stler:innen einen Raum\, Visionen für ein „LAND VON MORGEN“ zu verwir
 klichen. Ob mit Naturmaterialien oder im Kontrast zur Umgebung\, sind Obje
 kte und Installationen zu entdecken\, die sich auf originelle und provozie
 rende Weise in der Lieberoser Heide verhalten. Neben ihrer ortsbezogenen I
 ntensität und Stringenz wird die Naturlandschaft Lieberoser Heide zur ma
 ßgeblichen und tiefgreifenden Inspirationsquelle. Einerseits fließen die
  verschiedenen Funktionen des ehemaligen Truppenübungsplatzes in Vergange
 nheit\, Gegenwart und Zukunft mit ein. Zugleich reagieren die Arbeiten auf
  zentrale Themen unserer Zeit: von Fragen zum Klimaschutz\, zur Biodiversi
 tät bis hin zu Themen\, die aktuelle Arbeitswelt sowie globale Konflikte 
 betreffen.\n\nIm Rahmen der Vernissage erwartet die Besucher:innen eine F
 ührung zu den Kunstobjekten\, in der Lieberoser Heide und dem ehemaligen 
 Truppenübungsplatz\, (Startpunkt: Parkplatz an der B168). Kurator Herbert
  Schirmer lädt im Rahmen der Führung die ausstellenden Künstler:innen z
 um Dialog.\n\nKontakt:\n\nLandkreis Dahme-Spreewald\nReutergasse 12\n15907
  Lübben (Spreewald)/Lubin (Błota)\nTelefon: +49 3546 200\nEmail: info@da
 hme-spreewald.de\nWebseite: https://www.dahme-spreewald.de/de/\n\nWeitere 
 Informationen zur Veranstaltung: http://test.reiseregion-flaeming.de/veran
 staltung/spreewald/vernissage-spektrale-12-land-von-morgen
CATEGORIES:Ausstellung
DTSTAMP:20260419T144840Z
END:VEVENT
END:VCALENDAR