BEGIN:VCALENDAR
VERSION:2.0
PRODID:test.reiseregion-flaeming.de
BEGIN:VEVENT
UID:69e4cad4a0780
DTSTART:20260613T090000Z
SEQUENCE:0
TRANSP:OPAQUE
DTEND:20260614T020000Z
URL:http://test.reiseregion-flaeming.de/veranstaltung/lausitzer-seenland/la
 ndpartie-brandenburg-wein-und-flammkuchen
LOCATION:Weinscheune Grano\, Schulweg 5\, 03172 Schenkendöbern
X-APPLE-STRUCTURED-LOCATION;VALUE=URI;X-ADDRESS="Weinscheune Grano, Schulwe
 g 5, 03172 Schenkendöbern";X-APPLE-RADIUS=49;X-TITLE=Weinscheune Grano:ge
 o:14.629804,51.973795
GEO:14.629804;51.973795
SUMMARY:Landpartie Brandenburg – Wein & Flammkuchen
CLASS:PUBLIC
DESCRIPTION:Am 13. Juni 2026 beteiligt sich die Weinscheune Grano von 11:00
  bis 18:00 Uhr an der Landpartie Brandenburg und lädt zu einem genussvoll
 en Tag auf dem Land ein.\n\nIm Mittelpunkt stehen Weine aus eigener Herste
 llung\, die vor Ort verkostet werden können. Darüber hinaus bietet sich 
 die Gelegenheit\, Einblicke in die Arbeit des Weinguts zu gewinnen und meh
 r über den regionalen Weinbau zu erfahren. Gespräche rund um Reben\, Her
 stellung und Besonderheiten der Weine machen den Besuch zu einem informati
 ven Erlebnis.\n\nKulinarisch wird der Tag durch hausgemachten Flammkuchen 
 frisch aus dem Ofen sowie weitere regionale Spezialitäten ergänzt. In en
 tspannter\, ländlicher Atmosphäre verbindet die Veranstaltung Genuss\, A
 ustausch und Einblicke in die Welt des Weins.\n\nKontakt:\n\nWeingut & Eve
 ntscheune\nSchulweg 5\n03172 Schenkendöbern\nTelefon: +49 3561 548668\nEm
 ail: kontakt@weingut-guben-grano.de\nWebseite: https://www.weingut-guben-g
 rano.de/\n\nWeitere Informationen zur Veranstaltung: http://test.reiseregi
 on-flaeming.de/veranstaltung/lausitzer-seenland/landpartie-brandenburg-wei
 n-und-flammkuchen
CATEGORIES:Essen und Trinken
DTSTAMP:20260419T123012Z
END:VEVENT
END:VCALENDAR