BEGIN:VCALENDAR
VERSION:2.0
PRODID:test.reiseregion-flaeming.de
BEGIN:VEVENT
UID:69e4cb3cf187b
DTSTART:20260523T090000Z
SEQUENCE:0
TRANSP:OPAQUE
DTEND:20260523T140000Z
URL:http://test.reiseregion-flaeming.de/veranstaltung/lausitzer-seenland/pf
 ingstsonnabend-wein-und-flammkuchen-in-der-weinscheune-grano
LOCATION:Weinscheune Grano\, Schulweg 5\, 03172 Schenkendöbern
X-APPLE-STRUCTURED-LOCATION;VALUE=URI;X-ADDRESS="Weinscheune Grano, Schulwe
 g 5, 03172 Schenkendöbern";X-APPLE-RADIUS=49;X-TITLE=Weinscheune Grano:ge
 o:14.629804,51.973795
GEO:14.629804;51.973795
SUMMARY:Pfingstsonnabend – Wein & Flammkuchen in der Weinscheune Grano
CLASS:PUBLIC
DESCRIPTION:Am 23. Mai 2026 öffnet die Weinscheune Grano von 11:00 bis 16:
 00 Uhr ihre Tore zu einem genussvollen Pfingstsamstag. In entspannter Atmo
 sphäre stehen ausgewählte Weine aus dem eigenen Sortiment im Mittelpunkt
 \, begleitet von frisch zubereitetem\, hausgebackenem Flammkuchen.\n\nDie 
 Veranstaltung lädt dazu ein\, regionale Weine zu entdecken und kulinarisc
 he Spezialitäten in geselliger Umgebung zu genießen. Eine Reservierung i
 st nicht erforderlich\, sodass ein spontaner Besuch jederzeit möglich ist
 .\n\nKontakt:\n\nWeingut & Eventscheune\nSchulweg 5\n03172 Schenkendöbern
 \nTelefon: +49 3561 548668\nEmail: kontakt@weingut-guben-grano.de\nWebseit
 e: https://www.weingut-guben-grano.de/\n\nWeitere Informationen zur Verans
 taltung: http://test.reiseregion-flaeming.de/veranstaltung/lausitzer-seenl
 and/pfingstsonnabend-wein-und-flammkuchen-in-der-weinscheune-grano
CATEGORIES:Essen und Trinken
DTSTAMP:20260419T123157Z
END:VEVENT
END:VCALENDAR