BEGIN:VCALENDAR
VERSION:2.0
PRODID:test.reiseregion-flaeming.de
BEGIN:VEVENT
UID:69e79dbf89d1b
DTSTART:20260531T113000Z
SEQUENCE:0
TRANSP:OPAQUE
DTEND:20260531T143000Z
URL:http://test.reiseregion-flaeming.de/veranstaltung/uckermark/kutschfahrt
 -durch-die-uckermark
LOCATION:Flussbadestelle Schwedt\, Bollwerk 15\, 16303 Schwedt/Oder
X-APPLE-STRUCTURED-LOCATION;VALUE=URI;X-ADDRESS="Flussbadestelle Schwedt, B
 ollwerk 15, 16303 Schwedt/Oder";X-APPLE-RADIUS=49;X-TITLE=Flussbadestelle 
 Schwedt:geo:14.284761,53.051908
GEO:14.284761;53.051908
SUMMARY:Kutschfahrt durch die Uckermark
CLASS:PUBLIC
DESCRIPTION:31.05.2026\, Sonntag\, Kutschfahrt durch die Uckermark\n\nHeute
  fahren wir mit einer Kutsche des Fahrbetriebes Ralf Fangerow von Altkünk
 endorf durch die Wälder und über die Felder der Uckermark zum berühmten
  Kaffee Konsum nach Wolletz. Hier rasten wir bei Kaffee und Kuchen und tre
 ten wieder die Rückfahrt an.\n\n**Treff:** 13:30 Uhr\, Infomationspunkt U
 NESCO Weltnaturerbeteilgebiet Buchenwald Grumsin\, Altkünkendorfer Str. 2
 0\, 16278 Angermünde OT Altkünkendorf\n\n**Anmeldung** möglich unter 03
 344-3002881\, Email oderland@naturfreunde.de oder Whatsup 0160-7500540\n\n
 **Gebühren Kutschfahrt** :  Erwachsene 30 Euro\, ermäßigt Kinder und Na
 turFreunde Mitglieder 25\,00 Euro.\n\nKontakt:\n\nDie NaturFreunde Deutsch
 lands Regionalgruppe Oberbarnim-Oderland e.V.\nDanckelmannstraße 28\n1625
 9 Bad Freienwalde (Oder)\nTelefon: +49 3344 3002881\nEmail: oderland@natur
 freunde.de\n\nWeitere Informationen zur Veranstaltung: http://test.reisere
 gion-flaeming.de/veranstaltung/uckermark/kutschfahrt-durch-die-uckermark
CATEGORIES:Führung / Besichtigung,Exkursion / Wanderung
DTSTAMP:20260421T155439Z
END:VEVENT
END:VCALENDAR