BEGIN:VCALENDAR
VERSION:2.0
PRODID:test.reiseregion-flaeming.de
BEGIN:VEVENT
UID:69e79ea15bb71
DTSTART:20260509T090000Z
SEQUENCE:0
TRANSP:OPAQUE
DTEND:20260509T113000Z
URL:http://test.reiseregion-flaeming.de/veranstaltung/uckermark/wanderung-i
 n-das-tal-der-liebe
LOCATION:Flussbadestelle Schwedt\, Bollwerk 15\, 16303 Schwedt/Oder
X-APPLE-STRUCTURED-LOCATION;VALUE=URI;X-ADDRESS="Flussbadestelle Schwedt, B
 ollwerk 15, 16303 Schwedt/Oder";X-APPLE-RADIUS=49;X-TITLE=Flussbadestelle 
 Schwedt:geo:14.284761,53.051908
GEO:14.284761;53.051908
SUMMARY:Wanderung in das Tal der Liebe
CLASS:PUBLIC
DESCRIPTION:09\\. Mai 2026\, Samstag\, **Wanderung in das Tal der Liebe**\n
 \nAls im Jahre 1850 Carl Philip von Humbert\, der damals Landrat im Kreis 
 Königsberg/Neumark war\, eine längere Dienstreise antrat\, gestaltete se
 ine Frau Anna Sophie das hügelige Gelände an der Oder zu einem Park um. 
 Im Buchenwald\, auf den Moränenanhöhen\, wurden Wege gezogen und Zierbü
 sche und Bäume gepflanzt – das Tal der Liebe entstand.:\n\nProgramm der
  heutigen geführten Wanderung:\n\nFußwanderung entlang des großen Strom
 es auf polnischer Seite von KrajnikDolny nach ZatonDolny zum Tal der Liebe
 \, ca. 2\,5 km\n\nWanderung im Tal der Liebe über Bastei\, Alte Förstere
 i\, Chlothildenquelle\, Adam und Eva Goldfischteichen zur Gedenkhöhe\n\nA
 uf historischen Pfaden erfahren wir vom Wirken und Schaffen der Familie vo
 n Humbert und naturkundlichen Besonderheiten (leichter Höhenanstieg ca. 2
  km)\n\nIm Anschluss stärken wir uns bei Beata mit leckeren typisch polni
 schen Köstlichkeiten\, ca. 200m\n\nNach der Wanderpause besuchen wir das 
 stolze Kirchlein bon 1711\, welches über dem Ort Niedersaathen thront\, c
 a. 500m\n\nDanach erklimmen wir einen Trockenrasenhügel\, ca. 60 m über 
 NN\, 1 km\, wir genießen eine grandiose Aussicht auf das Untere Odertal (
 Nationalpark\, 1m über NN)\n\nWir erfahren einiges über Brandenburg einz
 igen Nationalpark und genießen den Blick aus der Vogelperspektive\n\nRüc
 kwanderung zu Beatas Einkehr und Ende der Führung gegen 16 Uhr\, ca. 1km\
 n\nIndividuelle Rückkehr zur Oderbrücke in KrajnikDolny\, 2\,5 km bis P-
 platz\n\nHinweise:\n\nGesamtstrecke ca. 10km mit teilweisen Höhenanstieg\
 , Festes Schuhwerk. Personalausweis. Fernglas empfehlenswert\n\n**Treff** 
 : 11 Uhr Parkplatz links hinter der Grenzrücke von Schwedt kommend in Kra
 jnik Dolny\n\n**Anmeldung**  unter 03344-3002881\, Email oderland@naturfre
 unde.de oder Whatsup 0160-7500540\n\n**Gebühren** :\n\nErwachsene 6 Euro\
 , ermäßigt Kinder\, NaturFreunde und Freienwalder Kurkarteninhaber 3 Eur
 o. Mitglieder der NaturFreunde Oberbarnim-Oderland kostenfrei\n\nKontakt:\
 n\nDie NaturFreunde Deutschlands Regionalgruppe Oberbarnim-Oderland e.V.\n
 Danckelmannstraße 28\n16259 Bad Freienwalde (Oder)\nTelefon: +49 3344 300
 2881\nEmail: oderland@naturfreunde.de\n\nWeitere Informationen zur Veranst
 altung: http://test.reiseregion-flaeming.de/veranstaltung/uckermark/wander
 ung-in-das-tal-der-liebe
CATEGORIES:Lesung / Vortrag,Führung / Besichtigung,Exkursion / Wanderung
DTSTAMP:20260421T155825Z
END:VEVENT
END:VCALENDAR