BEGIN:VCALENDAR
VERSION:2.0
PRODID:test.reiseregion-flaeming.de
BEGIN:VEVENT
UID:69e4d4c71d188
DTSTART:20260503T070000Z
SEQUENCE:0
TRANSP:OPAQUE
DTEND:20260503T100000Z
URL:http://test.reiseregion-flaeming.de/veranstaltung/spreewald/13-lieberos
 er-wandertag
LOCATION:FiZ Lieberose\, Mühlenstr. 20\, 15868 Lieberose
X-APPLE-STRUCTURED-LOCATION;VALUE=URI;X-ADDRESS="FiZ Lieberose, Mühlenstr.
  20, 15868 Lieberose";X-APPLE-RADIUS=49;X-TITLE=FiZ Lieberose:geo:14.29941
 1,51.988375
GEO:14.299411;51.988375
SUMMARY:13. Lieberoser Wandertag
CLASS:PUBLIC
DESCRIPTION:Der diesjährige Wandertag steht unter dem Motto: \"Über Liebe
 roser Höhen\". Es ist eine 12 km-Wanderung rund um Lieberose\, wobei die 
 höchste Erhebung erklommen wird.\n\nKontakt:\n\nPeter Ewald\n\n \nTelefon
 : +49 0171 722 96 95\nEmail: \n\nWeitere Informationen zur Veranstaltung: 
 http://test.reiseregion-flaeming.de/veranstaltung/spreewald/13-lieberoser-
 wandertag
CATEGORIES:Kinder und Jugendliche,Exkursion / Wanderung,Sport
DTSTAMP:20260419T131239Z
END:VEVENT
END:VCALENDAR