BEGIN:VCALENDAR
VERSION:2.0
PRODID:test.reiseregion-flaeming.de
BEGIN:VEVENT
UID:69e73d9448ec0
DTSTART:20260502T120000Z
SEQUENCE:0
TRANSP:OPAQUE
DTEND:20260502T160000Z
URL:http://test.reiseregion-flaeming.de/veranstaltung/uckermark/offene-atel
 iers-uwe-kahl
LOCATION:Atelier Uwe Kahl\, Haupstr. 25\, 17326 Brüssow
X-APPLE-STRUCTURED-LOCATION;VALUE=URI;X-ADDRESS="Atelier Uwe Kahl, Haupstr.
  25, 17326 Brüssow";X-APPLE-RADIUS=49;X-TITLE=Atelier Uwe Kahl:geo:14.197
 786,53.356407
GEO:14.197786;53.356407
SUMMARY:Offene Ateliers: Uwe Kahl
CLASS:PUBLIC
DESCRIPTION:**BILDHAUEREI**\n\nMit Künstlern ins Gespräch kommen\, ihnen 
 bei der Arbeit über die Schulter zu schauen oder sogar selbst kreativ wer
 den. Künstlerisches\, Musik\, Literatur\, Gartenkunst\, aber auch Kulinar
 isches erwartet Sie. In den beteiligten Galerien können Sie die Werke der
  Künstlerinnen und Künstler bewundern und das eine oder andere Original 
 direkt erwerben.\n\nDie Tage des offenen Ateliers sind ein regionales Koop
 erationsprojekt\, das im Arbeitskreis der Kulturverwaltungen im Land Brand
 enburg (AKK) entwickelt wurde.\n\n \n\n**Öffnungszeiten**\n\nSa 2.5.2026:
  14 – 18 Uhr und\n\nSo 3.5.2026: 11 – 18 Uhr\n\nHinweis: barrierefrei.
 \n\nKontakt:\n\nAmt für Kreisentwicklung\nKarl-Marx-Straße  1\n17291 Pre
 nzlau\nTelefon: +49 3984 701480\nEmail: Klara-Marie.Zwerschke@uckermark.de
 \nWebseite: https://www.uckermark.de/Kunst-Kultur\n\nWeitere Informationen
  zur Veranstaltung: http://test.reiseregion-flaeming.de/veranstaltung/ucke
 rmark/offene-ateliers-uwe-kahl
CATEGORIES:Führung / Besichtigung
DTSTAMP:20260421T090420Z
END:VEVENT
BEGIN:VEVENT
UID:69e73d9450438
DTSTART:20260503T090000Z
SEQUENCE:0
TRANSP:OPAQUE
DTEND:20260503T160000Z
URL:http://test.reiseregion-flaeming.de/veranstaltung/uckermark/offene-atel
 iers-uwe-kahl
LOCATION:Atelier Uwe Kahl\, Haupstr. 25\, 17326 Brüssow
X-APPLE-STRUCTURED-LOCATION;VALUE=URI;X-ADDRESS="Atelier Uwe Kahl, Haupstr.
  25, 17326 Brüssow";X-APPLE-RADIUS=49;X-TITLE=Atelier Uwe Kahl:geo:14.197
 786,53.356407
GEO:14.197786;53.356407
SUMMARY:Offene Ateliers: Uwe Kahl
CLASS:PUBLIC
DESCRIPTION:**BILDHAUEREI**\n\nMit Künstlern ins Gespräch kommen\, ihnen 
 bei der Arbeit über die Schulter zu schauen oder sogar selbst kreativ wer
 den. Künstlerisches\, Musik\, Literatur\, Gartenkunst\, aber auch Kulinar
 isches erwartet Sie. In den beteiligten Galerien können Sie die Werke der
  Künstlerinnen und Künstler bewundern und das eine oder andere Original 
 direkt erwerben.\n\nDie Tage des offenen Ateliers sind ein regionales Koop
 erationsprojekt\, das im Arbeitskreis der Kulturverwaltungen im Land Brand
 enburg (AKK) entwickelt wurde.\n\n \n\n**Öffnungszeiten**\n\nSa 2.5.2026:
  14 – 18 Uhr und\n\nSo 3.5.2026: 11 – 18 Uhr\n\nHinweis: barrierefrei.
 \n\nKontakt:\n\nAmt für Kreisentwicklung\nKarl-Marx-Straße  1\n17291 Pre
 nzlau\nTelefon: +49 3984 701480\nEmail: Klara-Marie.Zwerschke@uckermark.de
 \nWebseite: https://www.uckermark.de/Kunst-Kultur\n\nWeitere Informationen
  zur Veranstaltung: http://test.reiseregion-flaeming.de/veranstaltung/ucke
 rmark/offene-ateliers-uwe-kahl
CATEGORIES:Führung / Besichtigung
DTSTAMP:20260421T090420Z
END:VEVENT
END:VCALENDAR