BEGIN:VCALENDAR
VERSION:2.0
PRODID:test.reiseregion-flaeming.de
BEGIN:VEVENT
UID:69e8abeaca8a4
DTSTART:20260422T150000Z
SEQUENCE:0
TRANSP:OPAQUE
DTEND:20260422T170000Z
URL:http://test.reiseregion-flaeming.de/veranstaltung/uckermark/filmabend-p
 op-up-kulturcafe-angermuende
LOCATION:Haus Uckermark\, Hoher Steinweg 17/18\, 16278 Angermünde
X-APPLE-STRUCTURED-LOCATION;VALUE=URI;X-ADDRESS="Haus Uckermark, Hoher Stei
 nweg 17/18, 16278 Angermünde";X-APPLE-RADIUS=49;X-TITLE=Haus Uckermark:ge
 o:14.003352,53.018294
GEO:14.003352;53.018294
SUMMARY:Filmabend Pop-Up Kulturcafé Angermünde
CLASS:PUBLIC
DESCRIPTION:Im Rahmen unseres Projekts **Pop-Up Kulturcafé Angermünde** z
 eigen wir den Film **„The Old Oak“**.\n\nDer Film erzählt die bewegen
 de Geschichte eines kleinen Dorfes im Norden Englands\, in dem ein Pub –
  das „Old Oak“ – zum letzten Treffpunkt der Gemeinschaft wird. Als G
 eflüchtete im Ort ankommen\, entstehen Spannungen\, aber auch neue Formen
  von Solidarität\, Freundschaft und Zusammenhalt.\n\nIm Anschluss laden w
 ir zu einer kleinen **Verkostung** und zum offenen Austausch ein. Der Aben
 d bietet Raum für Begegnung\, Gespräche und gemeinsames Nachdenken in en
 tspannter Atmosphäre.\n\nOffen für alle - wir freuen uns auf euch.\n\nKo
 ntakt:\n\nTeam Pop-Up Kulturcafe Angermünde Brücke der Kulturen\nBeata K
 . Naroznik\n\n \nTelefon: +49 170  6063067\nEmail: \n\nWeitere Information
 en zur Veranstaltung: http://test.reiseregion-flaeming.de/veranstaltung/uc
 kermark/filmabend-pop-up-kulturcafe-angermuende
CATEGORIES:Film
DTSTAMP:20260422T110723Z
END:VEVENT
END:VCALENDAR