BEGIN:VCALENDAR
VERSION:2.0
PRODID:test.reiseregion-flaeming.de
BEGIN:VEVENT
UID:69e759d908984
DTSTART:20260905T090000Z
SEQUENCE:0
TRANSP:OPAQUE
DTEND:20260905T160000Z
URL:http://test.reiseregion-flaeming.de/veranstaltung/spreewald/jamlitzer-a
 teliertag-2026
LOCATION:Kunst und Kultur Jamlitz gemeinnützige UG (haftungsbeschränkt)\,
  Hauptstr. 15\, 15868 Jamlitz
X-APPLE-STRUCTURED-LOCATION;VALUE=URI;X-ADDRESS="Kunst und Kultur Jamlitz g
 emeinnützige UG (haftungsbeschränkt), Hauptstr. 15, 15868 Jamlitz";X-APP
 LE-RADIUS=49;X-TITLE=Kunst und Kultur Jamlitz gemeinnützige UG (haftungsb
 eschränkt):geo:14.353780,51.990035
GEO:14.353780;51.990035
SUMMARY:Jamlitzer Ateliertag 2026
CLASS:PUBLIC
DESCRIPTION:Zum Jamlitzer Ateliertag 2026 öffnen alle Ateliers Ihre Pforte
 n. Es ist ein Gemeinschaftsprojekt der  Jamlitzer Ateliers.\n\nKontakt:\n\
 nKunst und Kultur Jamlitz\nHauptstraße 15\n15868 Jamlitz\nTelefon: +49 17
 6 24200640\nEmail: info@kunst-kultur-jamlitz.de\n\nWeitere Informationen z
 ur Veranstaltung: http://test.reiseregion-flaeming.de/veranstaltung/spreew
 ald/jamlitzer-ateliertag-2026
CATEGORIES:Ausstellung
DTSTAMP:20260421T110457Z
END:VEVENT
END:VCALENDAR