BEGIN:VCALENDAR
VERSION:2.0
PRODID:test.reiseregion-flaeming.de
BEGIN:VEVENT
UID:69e61c2aa695d
DTSTART:20260516T170000Z
SEQUENCE:0
TRANSP:OPAQUE
DTEND:20260516T193000Z
URL:http://test.reiseregion-flaeming.de/veranstaltung/spreewald/liegen-und-
 lauschen-nach-innen-und-nach-aussen-i-ein-konzert-im-liegen-mit-clara-werd
 en
LOCATION:NaturRaum Spreewald (Weidenweg 10)\, Weidenweg 10\, 03096 Burg (Sp
 reewald)
X-APPLE-STRUCTURED-LOCATION;VALUE=URI;X-ADDRESS="NaturRaum Spreewald (Weide
 nweg 10), Weidenweg 10, 03096 Burg (Spreewald)";X-APPLE-RADIUS=49;X-TITLE=
 NaturRaum Spreewald (Weidenweg 10):geo:14.113518,51.855915
GEO:14.113518;51.855915
SUMMARY:Liegen & Lauschen - Nach innen und nach außen I Ein Konzert im Lie
 gen mit Clara Werden
CLASS:PUBLIC
DESCRIPTION:Erlebe ein Konzert im Liegen mit Clara Werden ([www.clara-werde
 n.de](http://www.clara-werden.de/)) im Naturraum Spreewald – mit Musik f
 ür Deine Seele an einem Ort\, der Deine Sinne berührt. Weiche Matten und
  sanftes Licht laden Dich ein\, Dich zurückzulehnen\, loszulassen und Dic
 h den Melodien\, den Gefühlen und Dir selbst hinzugeben.\n\nClaras Lieder
  mit ihren tiefgründigen Texten begleiten Dich auf eine persönliche Reis
 e in Dein Innerstes – eine Seelenreise. Lass Dich inspirieren oder entsp
 anne einfach beim Lauschen. Dieses Konzert ist eine Einladung\, Dich mit D
 ir selbst zu verbinden und Dich ganz bewusst zu spüren.\n\n16.05.2026 _
 „Der Blick nach innen\" – Wer bin ich zwischen Werden und Sein?_\n\n17
 .05.2026 _„Das Entdecken im Außen\" - Was wirkt auf mich im Feld und in
  der Welt?_\n\nKontakt:\n\nNaturRaum Spreewald\nWeidenweg 10a\n03096 Burg 
 (Spreewald)\nTelefon: +49 174 4044448\nEmail: kontakt@clara-werden.de\n\nW
 eitere Informationen zur Veranstaltung: http://test.reiseregion-flaeming.d
 e/veranstaltung/spreewald/liegen-und-lauschen-nach-innen-und-nach-aussen-i
 -ein-konzert-im-liegen-mit-clara-werden
CATEGORIES:Wellness / Gesundheit
DTSTAMP:20260420T122931Z
END:VEVENT
BEGIN:VEVENT
UID:69e61c2b2768f
DTSTART:20260517T140000Z
SEQUENCE:0
TRANSP:OPAQUE
DTEND:20260517T163000Z
URL:http://test.reiseregion-flaeming.de/veranstaltung/spreewald/liegen-und-
 lauschen-nach-innen-und-nach-aussen-i-ein-konzert-im-liegen-mit-clara-werd
 en
LOCATION:NaturRaum Spreewald (Weidenweg 10)\, Weidenweg 10\, 03096 Burg (Sp
 reewald)
X-APPLE-STRUCTURED-LOCATION;VALUE=URI;X-ADDRESS="NaturRaum Spreewald (Weide
 nweg 10), Weidenweg 10, 03096 Burg (Spreewald)";X-APPLE-RADIUS=49;X-TITLE=
 NaturRaum Spreewald (Weidenweg 10):geo:14.113518,51.855915
GEO:14.113518;51.855915
SUMMARY:Liegen & Lauschen - Nach innen und nach außen I Ein Konzert im Lie
 gen mit Clara Werden
CLASS:PUBLIC
DESCRIPTION:Erlebe ein Konzert im Liegen mit Clara Werden ([www.clara-werde
 n.de](http://www.clara-werden.de/)) im Naturraum Spreewald – mit Musik f
 ür Deine Seele an einem Ort\, der Deine Sinne berührt. Weiche Matten und
  sanftes Licht laden Dich ein\, Dich zurückzulehnen\, loszulassen und Dic
 h den Melodien\, den Gefühlen und Dir selbst hinzugeben.\n\nClaras Lieder
  mit ihren tiefgründigen Texten begleiten Dich auf eine persönliche Reis
 e in Dein Innerstes – eine Seelenreise. Lass Dich inspirieren oder entsp
 anne einfach beim Lauschen. Dieses Konzert ist eine Einladung\, Dich mit D
 ir selbst zu verbinden und Dich ganz bewusst zu spüren.\n\n16.05.2026 _
 „Der Blick nach innen\" – Wer bin ich zwischen Werden und Sein?_\n\n17
 .05.2026 _„Das Entdecken im Außen\" - Was wirkt auf mich im Feld und in
  der Welt?_\n\nKontakt:\n\nNaturRaum Spreewald\nWeidenweg 10a\n03096 Burg 
 (Spreewald)\nTelefon: +49 174 4044448\nEmail: kontakt@clara-werden.de\n\nW
 eitere Informationen zur Veranstaltung: http://test.reiseregion-flaeming.d
 e/veranstaltung/spreewald/liegen-und-lauschen-nach-innen-und-nach-aussen-i
 -ein-konzert-im-liegen-mit-clara-werden
CATEGORIES:Wellness / Gesundheit
DTSTAMP:20260420T122931Z
END:VEVENT
END:VCALENDAR