BEGIN:VCALENDAR
VERSION:2.0
PRODID:test.reiseregion-flaeming.de
BEGIN:VEVENT
UID:69e747ce525aa
DTSTART:20260513T073000Z
SEQUENCE:0
TRANSP:OPAQUE
DTEND:20260513T093000Z
URL:http://test.reiseregion-flaeming.de/veranstaltung/barnimer-land/kindera
 ktion-kreativ-mit-pastellkreide-fuer-kitagruppen-strich-vorschule-im-museu
 m-eberswalde
LOCATION:Museum Eberswalde\, Steinstraße 3\, 16225 Eberswalde
X-APPLE-STRUCTURED-LOCATION;VALUE=URI;X-ADDRESS="Museum Eberswalde, Steinst
 raße 3, 16225 Eberswalde";X-APPLE-RADIUS=49;X-TITLE=Museum Eberswalde:geo
 :13.820136,52.834541
GEO:13.820136;52.834541
SUMMARY:Kinderaktion \"Kreativ mit Pastellkreide\" (für Kitagruppen/ Vorsc
 hule) im Museum Eberswalde
CLASS:PUBLIC
DESCRIPTION:Gemeinsam gehen wir auf Entdeckungsreise zu den Bildern von Lui
 se Wiegand\, tauschen uns über die Welt der Farben aus und erkunden die v
 ielfältigen Möglichkeiten der Pastellkreide (Dauer 1\,5 – 2 Stunden)\,
  Eintritt je Kind: 2 €\n\nMehr Informationen zum weiteren Programm finde
 n Sie unter eberswalde.de/termine\n\nKontakt:\n\nKulturamt der Stadt Ebers
 walde\nSteinstraße  3\n16225 Eberswalde\nTelefon: +49 3334 64435\nEmail: 
 museum@eberswalde.de\nWebseite: https://www.museum-eberswalde.de/homepage/
 aktuelles/401-ausstellung-wahrheit-und-ordnung-luise-wiegand-1951-2014\n\n
 Weitere Informationen zur Veranstaltung: http://test.reiseregion-flaeming.
 de/veranstaltung/barnimer-land/kinderaktion-kreativ-mit-pastellkreide-fuer
 -kitagruppen-strich-vorschule-im-museum-eberswalde
CATEGORIES:Workshop / Seminar
DTSTAMP:20260421T094759Z
END:VEVENT
END:VCALENDAR