BEGIN:VCALENDAR
VERSION:2.0
PRODID:test.reiseregion-flaeming.de
BEGIN:VEVENT
UID:69e8ad5f5e13c
DTSTART:20260512T080000Z
SEQUENCE:0
TRANSP:OPAQUE
DTEND:20260512T100000Z
URL:http://test.reiseregion-flaeming.de/veranstaltung/flaeming/kraeuterfueh
 rung-wildkraeuter-und-heilpflanzen-erkennen
LOCATION:Marktplatz Teltow\, Marktplatz 1-3\, 14513 Teltow
X-APPLE-STRUCTURED-LOCATION;VALUE=URI;X-ADDRESS="Marktplatz Teltow, Marktpl
 atz 1-3, 14513 Teltow";X-APPLE-RADIUS=49;X-TITLE=Marktplatz Teltow:geo:13.
 263266,52.402645
GEO:13.263266;52.402645
SUMMARY:Kräuterführung: Wildkräuter und  Heilpflanzen erkennen
CLASS:PUBLIC
DESCRIPTION:Was wächst vor meiner Haustür? Worauf muss ich beim Sammeln a
 chten?  Wie werden Kräuter verarbeitet?   \nDiesen Fragen wollen wir bei 
 einer Kräuterführung in den Teltower Buschwiesen nachgehen. Neugierige s
 ind herzlich zu einem besonderen Erlebnistag im Grünen eingeladen. Frühl
 ing und Sommer zeigen uns viele essbare Wildpflanzen\, die wir jetzt samme
 ln können. Gemeinsam mit Tourenguide Heidi „Kräuter-Heidi“ Knappe er
 kunden wir essbare Kostbarkeiten in Teltow. Wir erfahren wertvolle Tipps z
 um Sammeln sowie zu der Verwendung der Wildpflanzen. Seien Sie gespannt\, 
 welches unbeachtete „Unkraut“ sich von einer ganz anderen Seite zeigt.
  Mitzubringen sind: eigenes Messer\, kleines Körbchen oder ein Sammelbeut
 el und natürlich gute Laune..\n\nKontakt:\n\nStadt Teltow | Tourist Infor
 mation im Rathaus Teltow\nMarktplatz 1-3\n14513 Teltow\nTelefon: +49 3328 
 4781293\nEmail: tourist-info@teltow.de\n\nWeitere Informationen zur Verans
 taltung: http://test.reiseregion-flaeming.de/veranstaltung/flaeming/kraeut
 erfuehrung-wildkraeuter-und-heilpflanzen-erkennen
CATEGORIES:Führung / Besichtigung
DTSTAMP:20260422T111335Z
END:VEVENT
BEGIN:VEVENT
UID:69e8ad5f64c8b
DTSTART:20260714T080000Z
SEQUENCE:0
TRANSP:OPAQUE
DTEND:20260714T100000Z
URL:http://test.reiseregion-flaeming.de/veranstaltung/flaeming/kraeuterfueh
 rung-wildkraeuter-und-heilpflanzen-erkennen
LOCATION:Marktplatz Teltow\, Marktplatz 1-3\, 14513 Teltow
X-APPLE-STRUCTURED-LOCATION;VALUE=URI;X-ADDRESS="Marktplatz Teltow, Marktpl
 atz 1-3, 14513 Teltow";X-APPLE-RADIUS=49;X-TITLE=Marktplatz Teltow:geo:13.
 263266,52.402645
GEO:13.263266;52.402645
SUMMARY:Kräuterführung: Wildkräuter und  Heilpflanzen erkennen
CLASS:PUBLIC
DESCRIPTION:Was wächst vor meiner Haustür? Worauf muss ich beim Sammeln a
 chten?  Wie werden Kräuter verarbeitet?   \nDiesen Fragen wollen wir bei 
 einer Kräuterführung in den Teltower Buschwiesen nachgehen. Neugierige s
 ind herzlich zu einem besonderen Erlebnistag im Grünen eingeladen. Frühl
 ing und Sommer zeigen uns viele essbare Wildpflanzen\, die wir jetzt samme
 ln können. Gemeinsam mit Tourenguide Heidi „Kräuter-Heidi“ Knappe er
 kunden wir essbare Kostbarkeiten in Teltow. Wir erfahren wertvolle Tipps z
 um Sammeln sowie zu der Verwendung der Wildpflanzen. Seien Sie gespannt\, 
 welches unbeachtete „Unkraut“ sich von einer ganz anderen Seite zeigt.
  Mitzubringen sind: eigenes Messer\, kleines Körbchen oder ein Sammelbeut
 el und natürlich gute Laune..\n\nKontakt:\n\nStadt Teltow | Tourist Infor
 mation im Rathaus Teltow\nMarktplatz 1-3\n14513 Teltow\nTelefon: +49 3328 
 4781293\nEmail: tourist-info@teltow.de\n\nWeitere Informationen zur Verans
 taltung: http://test.reiseregion-flaeming.de/veranstaltung/flaeming/kraeut
 erfuehrung-wildkraeuter-und-heilpflanzen-erkennen
CATEGORIES:Führung / Besichtigung
DTSTAMP:20260422T111335Z
END:VEVENT
END:VCALENDAR